BEGIN:VCALENDAR
VERSION:2.0
PRODID:-//MAAC - ECPv6.15.20//NONSGML v1.0//EN
CALSCALE:GREGORIAN
METHOD:PUBLISH
X-WR-CALNAME:MAAC
X-ORIGINAL-URL:https://maacproject.org
X-WR-CALDESC:Events for MAAC
REFRESH-INTERVAL;VALUE=DURATION:PT1H
X-Robots-Tag:noindex
X-PUBLISHED-TTL:PT1H
BEGIN:VTIMEZONE
TZID:America/Los_Angeles
BEGIN:DAYLIGHT
TZOFFSETFROM:-0800
TZOFFSETTO:-0700
TZNAME:PDT
DTSTART:20240310T100000
END:DAYLIGHT
BEGIN:STANDARD
TZOFFSETFROM:-0700
TZOFFSETTO:-0800
TZNAME:PST
DTSTART:20241103T090000
END:STANDARD
BEGIN:DAYLIGHT
TZOFFSETFROM:-0800
TZOFFSETTO:-0700
TZNAME:PDT
DTSTART:20250309T100000
END:DAYLIGHT
BEGIN:STANDARD
TZOFFSETFROM:-0700
TZOFFSETTO:-0800
TZNAME:PST
DTSTART:20251102T090000
END:STANDARD
BEGIN:DAYLIGHT
TZOFFSETFROM:-0800
TZOFFSETTO:-0700
TZNAME:PDT
DTSTART:20260308T100000
END:DAYLIGHT
BEGIN:STANDARD
TZOFFSETFROM:-0700
TZOFFSETTO:-0800
TZNAME:PST
DTSTART:20261101T090000
END:STANDARD
BEGIN:DAYLIGHT
TZOFFSETFROM:-0800
TZOFFSETTO:-0700
TZNAME:PDT
DTSTART:20270314T100000
END:DAYLIGHT
BEGIN:STANDARD
TZOFFSETFROM:-0700
TZOFFSETTO:-0800
TZNAME:PST
DTSTART:20271107T090000
END:STANDARD
END:VTIMEZONE
BEGIN:VEVENT
DTSTART;TZID=America/Los_Angeles:20260227T090000
DTEND;TZID=America/Los_Angeles:20260227T090000
DTSTAMP:20260423T232810
CREATED:20260203T145509Z
LAST-MODIFIED:20260203T152024Z
UID:5950-1772182800-1772182800@maacproject.org
SUMMARY:Food Bank – 4th Friday of the Month
DESCRIPTION:9AM Senior Food Program\n@ MAAC Community Center\n1387 Third Avenue\, Chula Vista\, CA 91911 \nDrive-thru pick-up only \nFor more information\, go here
URL:https://maacproject.org/event/food-bank-4th-friday-of-the-month-21/
LOCATION:Senior Food Program @ MAAC Community Center\, 1387 Third Avenue\, Chula Vista\, CA\, 91911\, United States
CATEGORIES:Food Bank
ATTACH;FMTTYPE=image/jpeg:https://maacproject.org/wp-content/uploads/2024/06/IMG_5901-scaled-e1713278304459.jpg
END:VEVENT
BEGIN:VEVENT
DTSTART;TZID=America/Los_Angeles:20260225T093000
DTEND;TZID=America/Los_Angeles:20260225T153000
DTSTAMP:20260423T232810
CREATED:20260114T211935Z
LAST-MODIFIED:20260224T185658Z
UID:5870-1772011800-1772033400@maacproject.org
SUMMARY:SD Solid Waste Assistance Program Clinic
DESCRIPTION:February 25th — 9:30 am – 3:30 pm \nCentral Library\n330 Park Boulevard\nSan Diego\, CA 92101 \nRoom 305
URL:https://maacproject.org/event/sd-solid-waste-assistance-program-clinic-4/
LOCATION:Central Library\, 330 Park Boulevard\, San Diego\, CA\, 92101\, United States
CATEGORIES:Economic Development
ATTACH;FMTTYPE=image/jpeg:https://maacproject.org/wp-content/uploads/2025/12/City-of-San-Diego-collection-service-scaled.jpg
END:VEVENT
BEGIN:VEVENT
DTSTART;TZID=America/Los_Angeles:20260219T083000
DTEND;TZID=America/Los_Angeles:20260219T083000
DTSTAMP:20260423T232810
CREATED:20260203T150302Z
LAST-MODIFIED:20260203T152005Z
UID:5956-1771489800-1771489800@maacproject.org
SUMMARY:Food Bank – 3rd Thursday of the Month
DESCRIPTION:8:30AM MAAC Community Center\n1385 Third Avenue\, Chula Vista\, CA 91911\nDrive-thru option preferred\nor walk up for services: If walking up\, please bring a cart & reusable bag. \nFor more information\, click here.
URL:https://maacproject.org/event/food-bank-3rd-thursday-of-the-month-20/
LOCATION:MAAC Community Center\, 1387 Third Avenue\, Chula Vista\, 91911\, United States
CATEGORIES:Food Bank
ATTACH;FMTTYPE=image/jpeg:https://maacproject.org/wp-content/uploads/2024/06/IMG_5901-scaled-e1713278304459.jpg
END:VEVENT
BEGIN:VEVENT
DTSTART;TZID=America/Los_Angeles:20260218T160000
DTEND;TZID=America/Los_Angeles:20260218T180000
DTSTAMP:20260423T232810
CREATED:20260203T145240Z
LAST-MODIFIED:20260203T145240Z
UID:5949-1771430400-1771437600@maacproject.org
SUMMARY:Diaper Distribution – 3rd Wednesday of the Month
DESCRIPTION:DIAPER DISTRIBUTION /DISTRIBUCIÓN DE PAÑALES \nWALK up for services / Servicios en persona\nEvery 3rd Wednesday of the Month / Cada tercer miércoles \nFor more info\, go here.
URL:https://maacproject.org/event/diaper-distribution-3rd-wednesday-of-the-month-2/
LOCATION:MAAC North Campus\, 956 Vale Terrace Drive\, Vista\, CA\, 92084\, United States
CATEGORIES:Bi-Monthly Diaper Distribution
ATTACH;FMTTYPE=image/jpeg:https://maacproject.org/wp-content/uploads/2024/06/GettyImages-1167721346_lr.jpg
END:VEVENT
BEGIN:VEVENT
DTSTART;TZID=America/Los_Angeles:20260218T120000
DTEND;TZID=America/Los_Angeles:20260218T180000
DTSTAMP:20260423T232810
CREATED:20260114T211524Z
LAST-MODIFIED:20260127T223726Z
UID:5867-1771416000-1771437600@maacproject.org
SUMMARY:SD Solid Waste Assistance Program Clinic
DESCRIPTION:February 18th — 12:00 – 6:00 pm \nAllied Gardens Recreation Center \n5155 Greenbrier Avenue\nSan Diego\, CA 92120 \nRoom TBD
URL:https://maacproject.org/event/sd-solid-waste-assistance-program-clinic-3/
LOCATION:Allied Gardens Recreation Center\, 5155 Greenbrier Avenue\, San Diego\, CA\, 92120\, United States
CATEGORIES:Economic Development
ATTACH;FMTTYPE=image/jpeg:https://maacproject.org/wp-content/uploads/2025/12/City-of-San-Diego-collection-service-scaled.jpg
END:VEVENT
BEGIN:VEVENT
DTSTART;TZID=America/Los_Angeles:20260211T120000
DTEND;TZID=America/Los_Angeles:20260211T180000
DTSTAMP:20260423T232810
CREATED:20260114T211127Z
LAST-MODIFIED:20260127T223644Z
UID:5864-1770811200-1770832800@maacproject.org
SUMMARY:SD Solid Waste Assistance Program Clinic
DESCRIPTION:February 11th — 12:00 – 6:00 pm \nAdams Recreation Center\n3491 Adams Avenue\nSan Diego\, CA 92116 \nCeramics Room
URL:https://maacproject.org/event/sd-solid-waste-assistance-program-clinic-2/
LOCATION:Adams Recreation Center\, 3491 Adams Avenue\, San Diego\, CA\, 92116\, United States
CATEGORIES:Economic Development
ATTACH;FMTTYPE=image/jpeg:https://maacproject.org/wp-content/uploads/2025/12/City-of-San-Diego-collection-service-scaled.jpg
END:VEVENT
BEGIN:VEVENT
DTSTART;TZID=America/Los_Angeles:20260210T090000
DTEND;TZID=America/Los_Angeles:20260210T210000
DTSTAMP:20260423T232810
CREATED:20260203T144920Z
LAST-MODIFIED:20260203T151953Z
UID:5948-1770714000-1770757200@maacproject.org
SUMMARY:Food Bank – 2nd Tuesday of the Month
DESCRIPTION:9AM Villa Lakeshore\n@ Lakeside Community Center\n9841 Vine Street\, Lakeside\, CA 92040 \nDrive-thru option preferred\nor walk up for services\nFor more information\, go here.
URL:https://maacproject.org/event/food-bank-2nd-tuesday-of-the-month-23/
LOCATION:Lakeside Community Center (Villa Lakeshore Temp Location)\, 9841 Vine Street\, Lakeside\, CA\, 92040\, United States
CATEGORIES:Food Bank
ATTACH;FMTTYPE=image/jpeg:https://maacproject.org/wp-content/uploads/2024/06/IMG_5901-scaled-e1713278304459.jpg
END:VEVENT
BEGIN:VEVENT
DTSTART;TZID=America/Los_Angeles:20260205T090000
DTEND;TZID=America/Los_Angeles:20260205T090000
DTSTAMP:20260423T232810
CREATED:20260203T144423Z
LAST-MODIFIED:20260203T152045Z
UID:5947-1770282000-1770282000@maacproject.org
SUMMARY:Food Bank – 1st Thursday of the Month
DESCRIPTION:9AM Mercado \n2001 Newton Avenue\, San Diego\, CA 92113 \nWalk up for services only \nFor more information\, go here.
URL:https://maacproject.org/event/food-bank-1st-thursday-of-the-month-22/
LOCATION:Mercado Apartments\, 2001 Newton Avenue\, San Diego\, CA\, 92113\, United States
CATEGORIES:Food Bank
ATTACH;FMTTYPE=image/jpeg:https://maacproject.org/wp-content/uploads/2024/06/IMG_5901-scaled-e1713278304459.jpg
END:VEVENT
BEGIN:VEVENT
DTSTART;TZID=America/Los_Angeles:20260204T093000
DTEND;TZID=America/Los_Angeles:20260204T153000
DTSTAMP:20260423T232810
CREATED:20260114T210211Z
LAST-MODIFIED:20260127T223700Z
UID:5855-1770197400-1770219000@maacproject.org
SUMMARY:SD Solid Waste Assistance Program Clinic
DESCRIPTION:February 4th — 9:30 am – 3:30 pm \nSan Ysidro Library\n4235 Beyer Boulevard\, San Diego\, CA 92173\n9:30 am – 3:30 pm \nCommunity Room
URL:https://maacproject.org/event/sd-solid-waste-assistance-program-clinic/
LOCATION:San Ysidro Library\, 4235 Beyer Boulevard\, San Diego\, CA\, 92173\, United States
CATEGORIES:Economic Development
ATTACH;FMTTYPE=image/jpeg:https://maacproject.org/wp-content/uploads/2025/12/City-of-San-Diego-collection-service-scaled.jpg
END:VEVENT
BEGIN:VEVENT
DTSTART;TZID=America/Los_Angeles:20260204T073000
DTEND;TZID=America/Los_Angeles:20260204T093000
DTSTAMP:20260423T232810
CREATED:20260203T143518Z
LAST-MODIFIED:20260203T144952Z
UID:5945-1770190200-1770197400@maacproject.org
SUMMARY:Diaper Distribution – 1st Wednesday of the Month
DESCRIPTION:DIAPER DISTRIBUTION /DISTRIBUCIÓN DE PAÑALES \nWALK up for services / Servicios en persona\nEvery 1st Wednesday of the Month / Cada primer miércoles \nFor more info\, go here.
URL:https://maacproject.org/event/diaper-distribution-1st-wednesday-of-the-month-2/
LOCATION:MAAC North Campus\, 956 Vale Terrace Drive\, Vista\, CA\, 92084\, United States
CATEGORIES:Bi-Monthly Diaper Distribution
ATTACH;FMTTYPE=image/jpeg:https://maacproject.org/wp-content/uploads/2024/06/GettyImages-1167721346_lr.jpg
END:VEVENT
BEGIN:VEVENT
DTSTART;TZID=America/Los_Angeles:20260128T093000
DTEND;TZID=America/Los_Angeles:20260128T153000
DTSTAMP:20260423T232810
CREATED:20260114T205042Z
LAST-MODIFIED:20260127T223709Z
UID:5851-1769592600-1769614200@maacproject.org
SUMMARY:SD Solid Waste Assistance Program Clinic
DESCRIPTION:January 28th — 9:30 am – 3:30 pm \nLogan Heights Library \n467 S. 28th Street\, San Diego\, CA 92113\nGracia Molina Room \nGracia Molina Room \n 
URL:https://maacproject.org/event/sd-solid-waste-assistance-program/
LOCATION:Logan Heights Library\, 567 S. 28th Street\, San Diego\, CA\, 92113\, United States
CATEGORIES:Economic Development
ATTACH;FMTTYPE=image/jpeg:https://maacproject.org/wp-content/uploads/2025/12/City-of-San-Diego-collection-service-scaled.jpg
END:VEVENT
BEGIN:VEVENT
DTSTART;TZID=America/Los_Angeles:20260123T090000
DTEND;TZID=America/Los_Angeles:20260123T090000
DTSTAMP:20260423T232810
CREATED:20251105T204751Z
LAST-MODIFIED:20251105T204751Z
UID:5576-1769158800-1769158800@maacproject.org
SUMMARY:Food Bank – 4th Friday of the Month
DESCRIPTION:9AM Senior Food Program\n@ MAAC Community Center\n1387 Third Avenue\, Chula Vista\, CA 91911 \nDrive-thru pick-up only \nFor more information\, go here
URL:https://maacproject.org/event/food-bank-4th-friday-of-the-month-20/
LOCATION:MAAC Community Center\, 1387 Third Avenue\, Chula Vista\, 91911\, United States
CATEGORIES:Food Bank
ATTACH;FMTTYPE=image/jpeg:https://maacproject.org/wp-content/uploads/2024/06/IMG_5901-scaled-e1713278304459.jpg
END:VEVENT
BEGIN:VEVENT
DTSTART;TZID=America/Los_Angeles:20260121T160000
DTEND;TZID=America/Los_Angeles:20260121T180000
DTSTAMP:20260423T232810
CREATED:20251105T204522Z
LAST-MODIFIED:20251105T204522Z
UID:5574-1769011200-1769018400@maacproject.org
SUMMARY:Diaper Distribution – 3rd Wednesday of the Month
DESCRIPTION:DIAPER DISTRIBUTION /DISTRIBUCIÓN DE PAÑALES \nWALK up for services / Servicios en persona\nEvery 3rd Wednesday of the Month / Cada tercer miércoles \nFor more info\, go here.
URL:https://maacproject.org/event/diaper-distribution-3rd-wednesday-of-the-month/
LOCATION:MAAC North Campus\, 956 Vale Terrace Drive\, Vista\, CA\, 92084\, United States
CATEGORIES:Bi-Monthly Diaper Distribution
ATTACH;FMTTYPE=image/jpeg:https://maacproject.org/wp-content/uploads/2024/06/GettyImages-1167721346_lr.jpg
END:VEVENT
BEGIN:VEVENT
DTSTART;TZID=America/Los_Angeles:20260120T000000
DTEND;TZID=America/Los_Angeles:20260120T000000
DTSTAMP:20260423T232810
CREATED:20251105T204244Z
LAST-MODIFIED:20251105T204244Z
UID:5572-1768867200-1768867200@maacproject.org
SUMMARY:Food Bank – 3rd Tuesday of the Month
DESCRIPTION:10AM San Martin de Porres\n@ Grace Covenant Church\n9140 Akard Street\, Spring Valley\, CA 91977\nDrive-thru option preferred\nor walk up for services \n1:30PM Laurel Tree\n1307 Laurel Tree Lane\, Carlsbad\, CA 92011\nWalk up for services only
URL:https://maacproject.org/event/food-bank-3rd-tuesday-of-the-month-22/
LOCATION:CA
CATEGORIES:Food Bank
ATTACH;FMTTYPE=image/jpeg:https://maacproject.org/wp-content/uploads/2024/06/IMG_5901-scaled-e1713278304459.jpg
END:VEVENT
BEGIN:VEVENT
DTSTART;TZID=America/Los_Angeles:20260113T090000
DTEND;TZID=America/Los_Angeles:20260113T090000
DTSTAMP:20260423T232810
CREATED:20251105T204021Z
LAST-MODIFIED:20251105T204021Z
UID:5570-1768294800-1768294800@maacproject.org
SUMMARY:Food Bank – 2nd Tuesday of the Month
DESCRIPTION:9AM Villa Lakeshore\n@ Lakeside Community Center\n9841 Vine Street\, Lakeside\, CA 92040 \nDrive-thru option preferred\nor walk up for services\nFor more information\, go here.
URL:https://maacproject.org/event/food-bank-2nd-tuesday-of-the-month-22/
LOCATION:Lakeside Community Center (Villa Lakeshore Temp Location)\, 9841 Vine Street\, Lakeside\, CA\, 92040\, United States
CATEGORIES:Food Bank
ATTACH;FMTTYPE=image/jpeg:https://maacproject.org/wp-content/uploads/2024/06/IMG_5901-scaled-e1713278304459.jpg
END:VEVENT
BEGIN:VEVENT
DTSTART;TZID=America/Los_Angeles:20260108T090000
DTEND;TZID=America/Los_Angeles:20260108T090000
DTSTAMP:20260423T232810
CREATED:20251105T203710Z
LAST-MODIFIED:20251105T203710Z
UID:5563-1767862800-1767862800@maacproject.org
SUMMARY:Food Bank – 1st Thursday of the Month – Rescheduled Due to Holiday
DESCRIPTION:9AM Mercado \n2001 Newton Avenue\, San Diego\, CA 92113 \nWalk up for services only \nFor more information\, go here.
URL:https://maacproject.org/event/food-bank-1st-thursday-of-the-month-rescheduled-due-to-holiday/
LOCATION:Mercado Apartments\, 2001 Newton Avenue\, San Diego\, CA\, 92113\, United States
CATEGORIES:Food Bank
ATTACH;FMTTYPE=image/jpeg:https://maacproject.org/wp-content/uploads/2024/06/IMG_5901-scaled-e1713278304459.jpg
END:VEVENT
BEGIN:VEVENT
DTSTART;TZID=America/Los_Angeles:20260107T073000
DTEND;TZID=America/Los_Angeles:20260107T093000
DTSTAMP:20260423T232810
CREATED:20251104T214803Z
LAST-MODIFIED:20251104T214803Z
UID:5561-1767771000-1767778200@maacproject.org
SUMMARY:Diaper Distribution – 1st Wednesday of the Month
DESCRIPTION:DIAPER DISTRIBUTION /DISTRIBUCIÓN DE PAÑALES \nWALK up for services / Servicios en persona\nEvery 1st Wednesday of the Month / Cada primer miércoles \nFor more info\, go here.
URL:https://maacproject.org/event/diaper-distribution-1st-wednesday-of-the-month/
LOCATION:MAAC North Campus\, 956 Vale Terrace Drive\, Vista\, CA\, 92084\, United States
CATEGORIES:Bi-Monthly Diaper Distribution
ATTACH;FMTTYPE=image/jpeg:https://maacproject.org/wp-content/uploads/2024/06/GettyImages-1167721346_lr.jpg
END:VEVENT
BEGIN:VEVENT
DTSTART;TZID=America/Los_Angeles:20251219T090000
DTEND;TZID=America/Los_Angeles:20251219T090000
DTSTAMP:20260423T232810
CREATED:20251104T214527Z
LAST-MODIFIED:20251104T214527Z
UID:5558-1766134800-1766134800@maacproject.org
SUMMARY:Food Bank – 4th Friday of the Month – Rescheduled Due to Holiday
DESCRIPTION:9AM Senior Food Program\n@ MAAC Community Center\n1387 Third Avenue\, Chula Vista\, CA 91911 \nDrive-thru pick-up only \nFor more information\, go here
URL:https://maacproject.org/event/food-bank-4th-friday-of-the-month-rescheduled-due-to-holiday/
LOCATION:Senior Food Program @ MAAC Community Center\, 1387 Third Avenue\, Chula Vista\, CA\, 91911\, United States
CATEGORIES:Food Bank
ATTACH;FMTTYPE=image/jpeg:https://maacproject.org/wp-content/uploads/2024/06/IMG_5901-scaled-e1713278304459.jpg
END:VEVENT
BEGIN:VEVENT
DTSTART;TZID=America/Los_Angeles:20251217T160000
DTEND;TZID=America/Los_Angeles:20251217T180000
DTSTAMP:20260423T232810
CREATED:20251104T214044Z
LAST-MODIFIED:20251104T214044Z
UID:5554-1765987200-1765994400@maacproject.org
SUMMARY:Diaper Distribution – 3rd Wednesday
DESCRIPTION:DIAPER DISTRIBUTION /DISTRIBUCIÓN DE PAÑALES \nWALK up for services / Servicios en persona\nEvery 3rd Wednesday of the Month / Cada tercer miércoles \nFor more info\, go here.
URL:https://maacproject.org/event/diaper-distribution-3rd-wednesday-21/
LOCATION:MAAC North Campus\, 956 Vale Terrace Drive\, Vista\, CA\, 92084\, United States
CATEGORIES:Bi-Monthly Diaper Distribution
ATTACH;FMTTYPE=image/jpeg:https://maacproject.org/wp-content/uploads/2024/06/GettyImages-1167721346_lr.jpg
END:VEVENT
BEGIN:VEVENT
DTSTART;TZID=America/Los_Angeles:20251216T000000
DTEND;TZID=America/Los_Angeles:20251216T000000
DTSTAMP:20260423T232810
CREATED:20251104T214245Z
LAST-MODIFIED:20251104T214245Z
UID:5556-1765843200-1765843200@maacproject.org
SUMMARY:Food Bank – 3rd Tuesday of the Month
DESCRIPTION:10AM San Martin de Porres\n@ Grace Covenant Church\n9140 Akard Street\, Spring Valley\, CA 91977\nDrive-thru option preferred\nor walk up for services \n1:30PM Laurel Tree\n1307 Laurel Tree Lane\, Carlsbad\, CA 92011\nWalk up for services only
URL:https://maacproject.org/event/food-bank-3rd-tuesday-of-the-month-21/
LOCATION:CA
CATEGORIES:Food Bank
ATTACH;FMTTYPE=image/jpeg:https://maacproject.org/wp-content/uploads/2024/06/IMG_5901-scaled-e1713278304459.jpg
END:VEVENT
BEGIN:VEVENT
DTSTART;TZID=America/Los_Angeles:20251209T090000
DTEND;TZID=America/Los_Angeles:20251209T090000
DTSTAMP:20260423T232810
CREATED:20251104T213845Z
LAST-MODIFIED:20251104T213845Z
UID:5552-1765270800-1765270800@maacproject.org
SUMMARY:Food Bank – 2nd Tuesday of the Month
DESCRIPTION:9AM Villa Lakeshore\n@ Lakeside Community Center\n9841 Vine Street\, Lakeside\, CA 92040 \nDrive-thru option preferred\nor walk up for services\nFor more information\, go here.
URL:https://maacproject.org/event/food-bank-2nd-tuesday-of-the-month-21/
LOCATION:Lakeside Community Center (Villa Lakeshore Temp Location)\, 9841 Vine Street\, Lakeside\, CA\, 92040\, United States
CATEGORIES:Food Bank
ATTACH;FMTTYPE=image/jpeg:https://maacproject.org/wp-content/uploads/2024/06/IMG_5901-scaled-e1713278304459.jpg
END:VEVENT
BEGIN:VEVENT
DTSTART;TZID=America/Los_Angeles:20251204T090000
DTEND;TZID=America/Los_Angeles:20251204T090000
DTSTAMP:20260423T232810
CREATED:20251104T213651Z
LAST-MODIFIED:20251104T213651Z
UID:5550-1764838800-1764838800@maacproject.org
SUMMARY:Food Bank – 1st Thursday of the Month
DESCRIPTION:9AM Mercado \n2001 Newton Avenue\, San Diego\, CA 92113 \nWalk up for services only \nFor more information\, go here.
URL:https://maacproject.org/event/food-bank-1st-thursday-of-the-month-21/
LOCATION:Mercado Apartments\, 2001 Newton Avenue\, San Diego\, CA\, 92113\, United States
CATEGORIES:Food Bank
ATTACH;FMTTYPE=image/jpeg:https://maacproject.org/wp-content/uploads/2024/06/IMG_5901-scaled-e1713278304459.jpg
END:VEVENT
BEGIN:VEVENT
DTSTART;TZID=America/Los_Angeles:20251203T073000
DTEND;TZID=America/Los_Angeles:20251203T213000
DTSTAMP:20260423T232810
CREATED:20251104T213420Z
LAST-MODIFIED:20251104T213420Z
UID:5548-1764747000-1764797400@maacproject.org
SUMMARY:Diaper Distribution – 1st Wednesday
DESCRIPTION:DIAPER DISTRIBUTION /DISTRIBUCIÓN DE PAÑALES \nWALK up for services / Servicios en persona\nEvery 1st Wednesday of the Month / Cada primer miércoles \nFor more info\, go here.
URL:https://maacproject.org/event/diaper-distribution-1st-wednesday-20/
LOCATION:MAAC North Campus\, 956 Vale Terrace Drive\, Vista\, CA\, 92084\, United States
CATEGORIES:Bi-Monthly Diaper Distribution
ATTACH;FMTTYPE=image/jpeg:https://maacproject.org/wp-content/uploads/2024/06/GettyImages-1167721346_lr.jpg
END:VEVENT
BEGIN:VEVENT
DTSTART;TZID=America/Los_Angeles:20251121T090000
DTEND;TZID=America/Los_Angeles:20251121T090000
DTSTAMP:20260423T232810
CREATED:20251104T213131Z
LAST-MODIFIED:20251104T213131Z
UID:5546-1763715600-1763715600@maacproject.org
SUMMARY:Food Bank – 4th Friday – Rescheduled Due to Holiday
DESCRIPTION:9AM Senior Food Program\n@ MAAC Community Center\n1387 Third Avenue\, Chula Vista\, CA 91911 \nDrive-thru pick-up only \nFor more information\, go here
URL:https://maacproject.org/event/food-bank-4th-friday-rescheduled-due-to-holiday/
LOCATION:Senior Food Program @ MAAC Community Center\, 1387 Third Avenue\, Chula Vista\, CA\, 91911\, United States
CATEGORIES:Food Bank
END:VEVENT
BEGIN:VEVENT
DTSTART;TZID=America/Los_Angeles:20251119T160000
DTEND;TZID=America/Los_Angeles:20251119T180000
DTSTAMP:20260423T232810
CREATED:20251104T212556Z
LAST-MODIFIED:20251104T212556Z
UID:5542-1763568000-1763575200@maacproject.org
SUMMARY:Diaper Distribution – 3rd Wednesday
DESCRIPTION:DIAPER DISTRIBUTION /DISTRIBUCIÓN DE PAÑALES \nWALK up for services / Servicios en persona\nEvery 3rd Wednesday of the Month / Cada tercer miércoles \nFor more info\, go here.
URL:https://maacproject.org/event/diaper-distribution-3rd-wednesday-20/
LOCATION:MAAC North Campus\, 956 Vale Terrace Drive\, Vista\, CA\, 92084\, United States
CATEGORIES:Bi-Monthly Diaper Distribution
ATTACH;FMTTYPE=image/jpeg:https://maacproject.org/wp-content/uploads/2024/06/GettyImages-1167721346_lr.jpg
END:VEVENT
BEGIN:VEVENT
DTSTART;TZID=America/Los_Angeles:20251118T000000
DTEND;TZID=America/Los_Angeles:20251118T000000
DTSTAMP:20260423T232810
CREATED:20251104T212806Z
LAST-MODIFIED:20251104T212806Z
UID:5544-1763424000-1763424000@maacproject.org
SUMMARY:Food Bank – 3rd Tuesday of the Month
DESCRIPTION:10AM San Martin de Porres\n@ Grace Covenant Church\n9140 Akard Street\, Spring Valley\, CA 91977\nDrive-thru option preferred\nor walk up for services \n1:30PM Laurel Tree\n1307 Laurel Tree Lane\, Carlsbad\, CA 92011\nWalk up for services only
URL:https://maacproject.org/event/food-bank-3rd-tuesday-of-the-month-20/
LOCATION:CA
CATEGORIES:Food Bank
ATTACH;FMTTYPE=image/jpeg:https://maacproject.org/wp-content/uploads/2024/06/IMG_9426-scaled.jpg
END:VEVENT
BEGIN:VEVENT
DTSTART;TZID=America/Los_Angeles:20251111T090000
DTEND;TZID=America/Los_Angeles:20251111T090000
DTSTAMP:20260423T232810
CREATED:20251104T212352Z
LAST-MODIFIED:20251104T212352Z
UID:5540-1762851600-1762851600@maacproject.org
SUMMARY:Food Bank – 2nd Tuesday of the Month
DESCRIPTION:9AM Villa Lakeshore\n@ Lakeside Community Center\n9841 Vine Street\, Lakeside\, CA 92040 \nDrive-thru option preferred\nor walk up for services\nFor more information\, go here.
URL:https://maacproject.org/event/food-bank-2nd-tuesday-of-the-month-20/
LOCATION:Lakeside Community Center (Villa Lakeshore Temp Location)\, 9841 Vine Street\, Lakeside\, CA\, 92040\, United States
CATEGORIES:Food Bank
ATTACH;FMTTYPE=image/jpeg:https://maacproject.org/wp-content/uploads/2024/06/IMG_9426-scaled.jpg
END:VEVENT
BEGIN:VEVENT
DTSTART;TZID=America/Los_Angeles:20251106T090000
DTEND;TZID=America/Los_Angeles:20251106T090000
DTSTAMP:20260423T232810
CREATED:20251104T212135Z
LAST-MODIFIED:20251104T212135Z
UID:5538-1762419600-1762419600@maacproject.org
SUMMARY:Food Bank – 1st Thursday of the Month
DESCRIPTION:9AM Mercado \n2001 Newton Avenue\, San Diego\, CA 92113 \nWalk up for services only \nFor more information\, go here.
URL:https://maacproject.org/event/food-bank-1st-thursday-of-the-month-20/
LOCATION:Mercado Apartments\, 2001 Newton Avenue\, San Diego\, CA\, 92113\, United States
CATEGORIES:Food Bank
ATTACH;FMTTYPE=image/jpeg:https://maacproject.org/wp-content/uploads/2024/06/IMG_9426-scaled.jpg
END:VEVENT
BEGIN:VEVENT
DTSTART;TZID=America/Los_Angeles:20251105T073000
DTEND;TZID=America/Los_Angeles:20251105T093000
DTSTAMP:20260423T232810
CREATED:20251104T211355Z
LAST-MODIFIED:20251104T211355Z
UID:5533-1762327800-1762335000@maacproject.org
SUMMARY:Diaper Distribution – 1st Wednesday
DESCRIPTION:DIAPER DISTRIBUTION /DISTRIBUCIÓN DE PAÑALES \nWALK up for services / Servicios en persona\nEvery 1st Wednesday of the Month / Cada primer miércoles \nFor more info\, go here.
URL:https://maacproject.org/event/diaper-distribution-1st-wednesday-19/
LOCATION:MAAC North Campus\, 956 Vale Terrace Drive\, Vista\, CA\, 92084\, United States
CATEGORIES:Bi-Monthly Diaper Distribution
ATTACH;FMTTYPE=image/jpeg:https://maacproject.org/wp-content/uploads/2024/06/GettyImages-1167721346_lr.jpg
END:VEVENT
BEGIN:VEVENT
DTSTART;TZID=America/Los_Angeles:20251024T090000
DTEND;TZID=America/Los_Angeles:20251024T090000
DTSTAMP:20260423T232810
CREATED:20251104T210740Z
LAST-MODIFIED:20251104T210740Z
UID:5531-1761296400-1761296400@maacproject.org
SUMMARY:Food Bank – 4th Friday of the Month
DESCRIPTION:9AM Senior Food Program\n@ MAAC Community Center\n1387 Third Avenue\, Chula Vista\, CA 91911 \nDrive-thru pick-up only \nFor more information\, go here
URL:https://maacproject.org/event/food-bank-4th-friday-of-the-month-19/
LOCATION:Senior Food Program @ MAAC Community Center\, 1387 Third Avenue\, Chula Vista\, CA\, 91911\, United States
CATEGORIES:Food Bank
ATTACH;FMTTYPE=image/jpeg:https://maacproject.org/wp-content/uploads/2024/06/IMG_5901-scaled-e1713278304459.jpg
END:VEVENT
END:VCALENDAR