BEGIN:VCALENDAR
VERSION:2.0
PRODID:-//MAAC - ECPv6.15.20//NONSGML v1.0//EN
CALSCALE:GREGORIAN
METHOD:PUBLISH
X-WR-CALNAME:MAAC
X-ORIGINAL-URL:https://maacproject.org
X-WR-CALDESC:Events for MAAC
REFRESH-INTERVAL;VALUE=DURATION:PT1H
X-Robots-Tag:noindex
X-PUBLISHED-TTL:PT1H
BEGIN:VTIMEZONE
TZID:America/Los_Angeles
BEGIN:DAYLIGHT
TZOFFSETFROM:-0800
TZOFFSETTO:-0700
TZNAME:PDT
DTSTART:20230312T100000
END:DAYLIGHT
BEGIN:STANDARD
TZOFFSETFROM:-0700
TZOFFSETTO:-0800
TZNAME:PST
DTSTART:20231105T090000
END:STANDARD
BEGIN:DAYLIGHT
TZOFFSETFROM:-0800
TZOFFSETTO:-0700
TZNAME:PDT
DTSTART:20240310T100000
END:DAYLIGHT
BEGIN:STANDARD
TZOFFSETFROM:-0700
TZOFFSETTO:-0800
TZNAME:PST
DTSTART:20241103T090000
END:STANDARD
BEGIN:DAYLIGHT
TZOFFSETFROM:-0800
TZOFFSETTO:-0700
TZNAME:PDT
DTSTART:20250309T100000
END:DAYLIGHT
BEGIN:STANDARD
TZOFFSETFROM:-0700
TZOFFSETTO:-0800
TZNAME:PST
DTSTART:20251102T090000
END:STANDARD
BEGIN:DAYLIGHT
TZOFFSETFROM:-0800
TZOFFSETTO:-0700
TZNAME:PDT
DTSTART:20260308T100000
END:DAYLIGHT
BEGIN:STANDARD
TZOFFSETFROM:-0700
TZOFFSETTO:-0800
TZNAME:PST
DTSTART:20261101T090000
END:STANDARD
END:VTIMEZONE
BEGIN:VEVENT
DTSTART;TZID=America/Los_Angeles:20250205T073000
DTEND;TZID=America/Los_Angeles:20250205T093000
DTSTAMP:20260424T170256
CREATED:20240613T173740Z
LAST-MODIFIED:20240615T203248Z
UID:1173-1738740600-1738747800@maacproject.org
SUMMARY:Diaper Distribution – 1st Wednesday
DESCRIPTION:DIAPER DISTRIBUTION /DISTRIBUCIÓN DE PAÑALES \nWALK up for services / Servicios en persona\nEvery 1st Wednesday of the Month / Cada primer miércoles \nFor more info\, go here.
URL:https://maacproject.org/event/diaper-distribution-1st-wednesday-3/
LOCATION:MAAC North Campus\, 956 Vale Terrace Drive\, Vista\, CA\, 92084\, United States
CATEGORIES:Bi-Monthly Diaper Distribution
ATTACH;FMTTYPE=image/jpeg:https://maacproject.org/wp-content/uploads/2024/06/GettyImages-1167721346_lr.jpg
END:VEVENT
BEGIN:VEVENT
DTSTART;TZID=America/Los_Angeles:20250124T090000
DTEND;TZID=America/Los_Angeles:20250124T090000
DTSTAMP:20260424T170256
CREATED:20240613T172723Z
LAST-MODIFIED:20240615T194623Z
UID:1106-1737709200-1737709200@maacproject.org
SUMMARY:Food Bank – 4th Friday of the Month
DESCRIPTION:9AM Senior Food Program\n@ MAAC Community Center\n1387 Third Avenue\, Chula Vista\, CA 91911 \nDrive-thru pick-up only \nFor more information\, go here.
URL:https://maacproject.org/event/food-bank-4th-friday-of-the-month-4/
LOCATION:Senior Food Program @ MAAC Community Center\, 1387 Third Avenue\, Chula Vista\, CA\, 91911\, United States
CATEGORIES:Food Bank
ATTACH;FMTTYPE=image/jpeg:https://maacproject.org/wp-content/uploads/2024/06/IMG_5901-scaled-e1713278304459.jpg
END:VEVENT
BEGIN:VEVENT
DTSTART;TZID=America/Los_Angeles:20250121T100000
DTEND;TZID=America/Los_Angeles:20250121T100000
DTSTAMP:20260424T170256
CREATED:20240613T172754Z
LAST-MODIFIED:20240618T141308Z
UID:1119-1737453600-1737453600@maacproject.org
SUMMARY:Food Bank – 3rd Tuesday of the Month
DESCRIPTION:10AM San Martin de Porres\n@ Grace Covenant Church\n9140 Akard Street\, Spring Valley\, CA 91977\nDrive-thru option preferred\nor walk up for services\n1:30PM\nLaurel Tree\n1307 Laurel Tree Lane\, Carlsbad\, CA 92011\nWalk up for services only \nFor more information\, go here.
URL:https://maacproject.org/event/food-bank-3rd-tuesday-of-the-month-4/
LOCATION:CA
CATEGORIES:Food Bank
ATTACH;FMTTYPE=image/jpeg:https://maacproject.org/wp-content/uploads/2024/06/IMG_5901-scaled-e1713278304459.jpg
END:VEVENT
BEGIN:VEVENT
DTSTART;TZID=America/Los_Angeles:20250116T083000
DTEND;TZID=America/Los_Angeles:20250116T083000
DTSTAMP:20260424T170256
CREATED:20240613T172824Z
LAST-MODIFIED:20240613T172824Z
UID:1132-1737016200-1737016200@maacproject.org
SUMMARY:Food Bank – 3rd Thursday of the Month
DESCRIPTION:8:30AMMAAC Community Center\n1355 Third Avenue\, Chula Vista\, CA 91911\nDrive-thru option preferred\nor walk up for services\nFor more information\, go here.
URL:https://maacproject.org/event/food-bank-3rd-thursday-of-the-month-4/
LOCATION:CA
CATEGORIES:Food Bank
END:VEVENT
BEGIN:VEVENT
DTSTART;TZID=America/Los_Angeles:20250115T160000
DTEND;TZID=America/Los_Angeles:20250115T180000
DTSTAMP:20260424T170256
CREATED:20240613T173740Z
LAST-MODIFIED:20240615T202243Z
UID:1174-1736956800-1736964000@maacproject.org
SUMMARY:Diaper Distribution – 3rd Wednesday
DESCRIPTION:DIAPER DISTRIBUTION /DISTRIBUCIÓN DE PAÑALES \nWALK up for services / Servicios en persona\nEvery 3rd Wednesday of the Month / Cada tercer miércoles \nFor more information\, go here
URL:https://maacproject.org/event/diaper-distribution-3rd-wednesday-4/
LOCATION:MAAC North Campus\, 956 Vale Terrace Drive\, Vista\, CA\, 92084\, United States
CATEGORIES:Bi-Monthly Diaper Distribution
ATTACH;FMTTYPE=image/jpeg:https://maacproject.org/wp-content/uploads/2024/06/GettyImages-1167721346_lr.jpg
END:VEVENT
BEGIN:VEVENT
DTSTART;TZID=America/Los_Angeles:20250114T090000
DTEND;TZID=America/Los_Angeles:20250114T090000
DTSTAMP:20260424T170256
CREATED:20240613T172909Z
LAST-MODIFIED:20240618T140613Z
UID:1144-1736845200-1736845200@maacproject.org
SUMMARY:Food Bank – 2nd Tuesday of the Month
DESCRIPTION:9AM Villa Lakeshore\n@ Lakeside Community Center\n9841 Vine Street\, Lakeside\, CA 92040\nDrive-thru option preferred\nor walk up for services\nFor more information\, go here.
URL:https://maacproject.org/event/food-bank-2nd-tuesday-of-the-month-3/
LOCATION:Lakeside Community Center (Villa Lakeshore Temp Location)\, 9841 Vine Street\, Lakeside\, CA\, 92040\, United States
CATEGORIES:Food Bank
ATTACH;FMTTYPE=image/jpeg:https://maacproject.org/wp-content/uploads/2024/06/IMG_5901-scaled-e1713278304459.jpg
END:VEVENT
BEGIN:VEVENT
DTSTART;TZID=America/Los_Angeles:20250102T090000
DTEND;TZID=America/Los_Angeles:20250102T090000
DTSTAMP:20260424T170256
CREATED:20240613T173139Z
LAST-MODIFIED:20240615T201024Z
UID:1158-1735808400-1735808400@maacproject.org
SUMMARY:Food Bank – 1st Thursday of the Month
DESCRIPTION:9AM Mercado \n2001 Newton Avenue\, San Diego\, CA 92113 \nWalk up for services only \nFor more information\, go here.
URL:https://maacproject.org/event/food-bank-1st-thursday-of-the-month-4/
LOCATION:Mercado Apartments\, 2001 Newton Avenue\, San Diego\, CA\, 92113\, United States
CATEGORIES:Food Bank
ATTACH;FMTTYPE=image/jpeg:https://maacproject.org/wp-content/uploads/2024/06/IMG_5901-scaled-e1713278304459.jpg
END:VEVENT
BEGIN:VEVENT
DTSTART;TZID=America/Los_Angeles:20250101T073000
DTEND;TZID=America/Los_Angeles:20250101T093000
DTSTAMP:20260424T170256
CREATED:20240613T173740Z
LAST-MODIFIED:20240615T203315Z
UID:1175-1735716600-1735723800@maacproject.org
SUMMARY:Diaper Distribution – 1st Wednesday
DESCRIPTION:DIAPER DISTRIBUTION /DISTRIBUCIÓN DE PAÑALES \nWALK up for services / Servicios en persona\nEvery 1st Wednesday of the Month / Cada primer miércoles \nFor more info\, go here.
URL:https://maacproject.org/event/diaper-distribution-1st-wednesday-4/
LOCATION:MAAC North Campus\, 956 Vale Terrace Drive\, Vista\, CA\, 92084\, United States
CATEGORIES:Bi-Monthly Diaper Distribution
ATTACH;FMTTYPE=image/jpeg:https://maacproject.org/wp-content/uploads/2024/06/GettyImages-1167721346_lr.jpg
END:VEVENT
BEGIN:VEVENT
DTSTART;TZID=America/Los_Angeles:20241220T090000
DTEND;TZID=America/Los_Angeles:20241220T090000
DTSTAMP:20260424T170256
CREATED:20240613T172723Z
LAST-MODIFIED:20241219T154348Z
UID:1107-1734685200-1734685200@maacproject.org
SUMMARY:Food Bank – 4th Friday of the Month – MOVED FOR HOLIDAYS
DESCRIPTION:9AM Senior Food Program\n@ MAAC Community Center\n1387 Third Avenue\, Chula Vista\, CA 91911 \nDrive-thru pick-up only \nFor more information\, go here.
URL:https://maacproject.org/event/food-bank-4th-friday-of-the-month-5/
LOCATION:Senior Food Program @ MAAC Community Center\, 1387 Third Avenue\, Chula Vista\, CA\, 91911\, United States
CATEGORIES:Food Bank
ATTACH;FMTTYPE=image/jpeg:https://maacproject.org/wp-content/uploads/2024/06/IMG_5901-scaled-e1713278304459.jpg
END:VEVENT
BEGIN:VEVENT
DTSTART;TZID=America/Los_Angeles:20241219T083000
DTEND;TZID=America/Los_Angeles:20241219T083000
DTSTAMP:20260424T170256
CREATED:20240613T172839Z
LAST-MODIFIED:20240615T200721Z
UID:1133-1734597000-1734597000@maacproject.org
SUMMARY:Food Bank – 3rd Thursday of the Month
DESCRIPTION:8:30AM \nMAAC Community Center\n1355 Third Avenue\, Chula Vista\, CA 91911 \nDrive-thru option preferred\nor walk up for services \nFor more information\, go here.
URL:https://maacproject.org/event/food-bank-3rd-thursday-of-the-month-5/
LOCATION:Senior Food Program @ MAAC Community Center\, 1387 Third Avenue\, Chula Vista\, CA\, 91911\, United States
CATEGORIES:Food Bank
ATTACH;FMTTYPE=image/jpeg:https://maacproject.org/wp-content/uploads/2024/06/IMG_5901-scaled-e1713278304459.jpg
END:VEVENT
BEGIN:VEVENT
DTSTART;TZID=America/Los_Angeles:20241218T160000
DTEND;TZID=America/Los_Angeles:20241218T180000
DTSTAMP:20260424T170256
CREATED:20240613T173740Z
LAST-MODIFIED:20240615T202526Z
UID:1176-1734537600-1734544800@maacproject.org
SUMMARY:Diaper Distribution – 3rd Wednesday
DESCRIPTION:DIAPER DISTRIBUTION /DISTRIBUCIÓN DE PAÑALES \nWALK up for services / Servicios en persona\nEvery 3rd Wednesday of the Month / Cada tercer miércoles \nFor more info\, go here.
URL:https://maacproject.org/event/diaper-distribution-3rd-wednesday-5/
LOCATION:MAAC North Campus\, 956 Vale Terrace Drive\, Vista\, CA\, 92084\, United States
CATEGORIES:Bi-Monthly Diaper Distribution
ATTACH;FMTTYPE=image/jpeg:https://maacproject.org/wp-content/uploads/2024/06/GettyImages-1167721346_lr.jpg
END:VEVENT
BEGIN:VEVENT
DTSTART;TZID=America/Los_Angeles:20241217T100000
DTEND;TZID=America/Los_Angeles:20241217T100000
DTSTAMP:20260424T170256
CREATED:20240613T172754Z
LAST-MODIFIED:20240618T141123Z
UID:1120-1734429600-1734429600@maacproject.org
SUMMARY:Food Bank – 3rd Tuesday of the Month
DESCRIPTION:10AM San Martin de Porres\n@ Grace Covenant Church\n9140 Akard Street\, Spring Valley\, CA 91977\nDrive-thru option preferred\nor walk up for services\n1:30PM\nLaurel Tree\n1307 Laurel Tree Lane\, Carlsbad\, CA 92011\nWalk up for services only \nFor more information\, go here.
URL:https://maacproject.org/event/food-bank-3rd-tuesday-of-the-month-5/
LOCATION:CA
CATEGORIES:Food Bank
ATTACH;FMTTYPE=image/jpeg:https://maacproject.org/wp-content/uploads/2024/06/IMG_5901-scaled-e1713278304459.jpg
END:VEVENT
BEGIN:VEVENT
DTSTART;TZID=America/Los_Angeles:20241210T090000
DTEND;TZID=America/Los_Angeles:20241210T090000
DTSTAMP:20260424T170256
CREATED:20240613T172909Z
LAST-MODIFIED:20240618T140423Z
UID:1146-1733821200-1733821200@maacproject.org
SUMMARY:Food Bank – 2nd Tuesday of the Month
DESCRIPTION:9AM Villa Lakeshore\n@ Lakeside Community Center\n9841 Vine Street\, Lakeside\, CA 92040\nDrive-thru option preferred\nor walk up for services\nFor more information\, go here.
URL:https://maacproject.org/event/food-bank-2nd-tuesday-of-the-month-5/
LOCATION:Lakeside Community Center (Villa Lakeshore Temp Location)\, 9841 Vine Street\, Lakeside\, CA\, 92040\, United States
CATEGORIES:Food Bank
ATTACH;FMTTYPE=image/jpeg:https://maacproject.org/wp-content/uploads/2024/06/IMG_5901-scaled-e1713278304459.jpg
END:VEVENT
BEGIN:VEVENT
DTSTART;TZID=America/Los_Angeles:20241205T090000
DTEND;TZID=America/Los_Angeles:20241205T090000
DTSTAMP:20260424T170256
CREATED:20240613T173139Z
LAST-MODIFIED:20240615T201333Z
UID:1159-1733389200-1733389200@maacproject.org
SUMMARY:Food Bank – 1st Thursday of the Month
DESCRIPTION:9AM Mercado \n2001 Newton Avenue\, San Diego\, CA 92113 \nWalk up for services only \nFor more information\, go here.
URL:https://maacproject.org/event/food-bank-1st-thursday-of-the-month-5/
LOCATION:Mercado Apartments\, 2001 Newton Avenue\, San Diego\, CA\, 92113\, United States
CATEGORIES:Food Bank
ATTACH;FMTTYPE=image/jpeg:https://maacproject.org/wp-content/uploads/2024/06/IMG_5901-scaled-e1713278304459.jpg
END:VEVENT
BEGIN:VEVENT
DTSTART;TZID=America/Los_Angeles:20241204T073000
DTEND;TZID=America/Los_Angeles:20241204T093000
DTSTAMP:20260424T170256
CREATED:20240613T173740Z
LAST-MODIFIED:20240615T203345Z
UID:1177-1733297400-1733304600@maacproject.org
SUMMARY:Diaper Distribution – 1st Wednesday
DESCRIPTION:DIAPER DISTRIBUTION /DISTRIBUCIÓN DE PAÑALES \nWALK up for services / Servicios en persona\nEvery 1st Wednesday of the Month / Cada primer miércoles \nFor more info\, go here.
URL:https://maacproject.org/event/diaper-distribution-1st-wednesday-5/
LOCATION:MAAC North Campus\, 956 Vale Terrace Drive\, Vista\, CA\, 92084\, United States
CATEGORIES:Bi-Monthly Diaper Distribution
ATTACH;FMTTYPE=image/jpeg:https://maacproject.org/wp-content/uploads/2024/06/GettyImages-1167721346_lr.jpg
END:VEVENT
BEGIN:VEVENT
DTSTART;TZID=America/Los_Angeles:20241122T090000
DTEND;TZID=America/Los_Angeles:20241122T090000
DTSTAMP:20260424T170256
CREATED:20240613T172724Z
LAST-MODIFIED:20240615T194339Z
UID:1108-1732266000-1732266000@maacproject.org
SUMMARY:Food Bank – 4th Friday of the Month
DESCRIPTION:9AM Senior Food Program\n@ MAAC Community Center\n1387 Third Avenue\, Chula Vista\, CA 91911 \nDrive-thru pick-up only \nFor more information\, go here.
URL:https://maacproject.org/event/food-bank-4th-friday-of-the-month-6/
LOCATION:Senior Food Program @ MAAC Community Center\, 1387 Third Avenue\, Chula Vista\, CA\, 91911\, United States
CATEGORIES:Food Bank
ATTACH;FMTTYPE=image/jpeg:https://maacproject.org/wp-content/uploads/2024/06/IMG_5901-scaled-e1713278304459.jpg
END:VEVENT
BEGIN:VEVENT
DTSTART;TZID=America/Los_Angeles:20241121T083000
DTEND;TZID=America/Los_Angeles:20241121T083000
DTSTAMP:20260424T170256
CREATED:20240613T172839Z
LAST-MODIFIED:20240618T140302Z
UID:1134-1732177800-1732177800@maacproject.org
SUMMARY:Food Bank – 3rd Thursday of the Month
DESCRIPTION:8:30AM MAAC Community Center\n1355 Third Avenue\, Chula Vista\, CA 91911\nDrive-thru option preferred\nor walk up for services\nFor more information\, go here.
URL:https://maacproject.org/event/food-bank-3rd-thursday-of-the-month-6/
LOCATION:Senior Food Program @ MAAC Community Center\, 1387 Third Avenue\, Chula Vista\, CA\, 91911\, United States
CATEGORIES:Food Bank
ATTACH;FMTTYPE=image/jpeg:https://maacproject.org/wp-content/uploads/2024/06/IMG_5901-scaled-e1713278304459.jpg
END:VEVENT
BEGIN:VEVENT
DTSTART;TZID=America/Los_Angeles:20241120T160000
DTEND;TZID=America/Los_Angeles:20241120T180000
DTSTAMP:20260424T170256
CREATED:20240613T173940Z
LAST-MODIFIED:20240615T202628Z
UID:1178-1732118400-1732125600@maacproject.org
SUMMARY:Diaper Distribution – 3rd Wednesday
DESCRIPTION:DIAPER DISTRIBUTION /DISTRIBUCIÓN DE PAÑALES \nWALK up for services / Servicios en persona\nEvery 3rd Wednesday of the Month / Cada tercer miércoles \nFor more info\, go here.
URL:https://maacproject.org/event/diaper-distribution-3rd-wednesday-6/
LOCATION:MAAC North Campus\, 956 Vale Terrace Drive\, Vista\, CA\, 92084\, United States
CATEGORIES:Bi-Monthly Diaper Distribution
ATTACH;FMTTYPE=image/jpeg:https://maacproject.org/wp-content/uploads/2024/06/GettyImages-1167721346_lr.jpg
END:VEVENT
BEGIN:VEVENT
DTSTART;TZID=America/Los_Angeles:20241119T100000
DTEND;TZID=America/Los_Angeles:20241119T100000
DTSTAMP:20260424T170256
CREATED:20240613T172754Z
LAST-MODIFIED:20240618T140144Z
UID:1121-1732010400-1732010400@maacproject.org
SUMMARY:Food Bank – 3rd Tuesday of the Month
DESCRIPTION:10AM San Martin de Porres\n@ Grace Covenant Church\n9140 Akard Street\, Spring Valley\, CA 91977\nDrive-thru option preferred\nor walk up for services\n1:30PM\nLaurel Tree\n1307 Laurel Tree Lane\, Carlsbad\, CA 92011\nWalk up for services only\nFor more information\, go here.
URL:https://maacproject.org/event/food-bank-3rd-tuesday-of-the-month-6/
LOCATION:CA
CATEGORIES:Food Bank
ATTACH;FMTTYPE=image/jpeg:https://maacproject.org/wp-content/uploads/2024/06/IMG_5901-scaled-e1713278304459.jpg
END:VEVENT
BEGIN:VEVENT
DTSTART;TZID=America/Los_Angeles:20241112T090000
DTEND;TZID=America/Los_Angeles:20241112T090000
DTSTAMP:20260424T170256
CREATED:20240613T172909Z
LAST-MODIFIED:20240618T140030Z
UID:1147-1731402000-1731402000@maacproject.org
SUMMARY:Food Bank – 2nd Tuesday of the Month
DESCRIPTION:9AM Villa Lakeshore\n@ Lakeside Community Center\n9841 Vine Street\, Lakeside\, CA 92040\nDrive-thru option preferred\nor walk up for services \nFor more information\, go here.
URL:https://maacproject.org/event/food-bank-2nd-tuesday-of-the-month-6/
LOCATION:Lakeside Community Center (Villa Lakeshore Temp Location)\, 9841 Vine Street\, Lakeside\, CA\, 92040\, United States
CATEGORIES:Food Bank
ATTACH;FMTTYPE=image/jpeg:https://maacproject.org/wp-content/uploads/2024/06/IMG_5901-scaled-e1713278304459.jpg
END:VEVENT
BEGIN:VEVENT
DTSTART;TZID=America/Los_Angeles:20241107T090000
DTEND;TZID=America/Los_Angeles:20241107T090000
DTSTAMP:20260424T170256
CREATED:20240613T173139Z
LAST-MODIFIED:20240615T201310Z
UID:1160-1730970000-1730970000@maacproject.org
SUMMARY:Food Bank – 1st Thursday of the Month
DESCRIPTION:9AM Mercado \n2001 Newton Avenue\, San Diego\, CA 92113 \nWalk up for services only \nFor more information\, go here.
URL:https://maacproject.org/event/food-bank-1st-thursday-of-the-month-6/
LOCATION:Mercado Apartments\, 2001 Newton Avenue\, San Diego\, CA\, 92113\, United States
CATEGORIES:Food Bank
ATTACH;FMTTYPE=image/jpeg:https://maacproject.org/wp-content/uploads/2024/06/IMG_5901-scaled-e1713278304459.jpg
END:VEVENT
BEGIN:VEVENT
DTSTART;TZID=America/Los_Angeles:20241106T073000
DTEND;TZID=America/Los_Angeles:20241106T093000
DTSTAMP:20260424T170256
CREATED:20240613T173940Z
LAST-MODIFIED:20240615T203826Z
UID:1179-1730878200-1730885400@maacproject.org
SUMMARY:Diaper Distribution – 1st Wednesday
DESCRIPTION:DIAPER DISTRIBUTION /DISTRIBUCIÓN DE PAÑALES \nWALK up for services / Servicios en persona\nEvery 1st Wednesday of the Month / Cada primer miércoles \nFor more info\, go here.
URL:https://maacproject.org/event/diaper-distribution-1st-wednesday-6/
LOCATION:MAAC North Campus\, 956 Vale Terrace Drive\, Vista\, CA\, 92084\, United States
CATEGORIES:Bi-Monthly Diaper Distribution
ATTACH;FMTTYPE=image/jpeg:https://maacproject.org/wp-content/uploads/2024/06/GettyImages-1167721346_lr.jpg
END:VEVENT
BEGIN:VEVENT
DTSTART;TZID=America/Los_Angeles:20241025T090000
DTEND;TZID=America/Los_Angeles:20241025T090000
DTSTAMP:20260424T170256
CREATED:20240613T172724Z
LAST-MODIFIED:20240615T194411Z
UID:1109-1729846800-1729846800@maacproject.org
SUMMARY:Food Bank – 4th Friday of the Month
DESCRIPTION:9AM Senior Food Program\n@ MAAC Community Center\n1387 Third Avenue\, Chula Vista\, CA 91911 \nDrive-thru pick-up only \nFor more information\, go here.
URL:https://maacproject.org/event/food-bank-4th-friday-of-the-month-7/
LOCATION:Senior Food Program @ MAAC Community Center\, 1387 Third Avenue\, Chula Vista\, CA\, 91911\, United States
CATEGORIES:Food Bank
ATTACH;FMTTYPE=image/jpeg:https://maacproject.org/wp-content/uploads/2024/06/IMG_5901-scaled-e1713278304459.jpg
END:VEVENT
BEGIN:VEVENT
DTSTART;TZID=America/Los_Angeles:20241017T083000
DTEND;TZID=America/Los_Angeles:20241017T083000
DTSTAMP:20260424T170256
CREATED:20240613T172839Z
LAST-MODIFIED:20240618T135849Z
UID:1135-1729153800-1729153800@maacproject.org
SUMMARY:Food Bank – 3rd Thursday of the Month
DESCRIPTION:8:30AM MAAC Community Center\n1355 Third Avenue\, Chula Vista\, CA 91911\nDrive-thru option preferred\nor walk up for services \nFor more information\, go here.
URL:https://maacproject.org/event/food-bank-3rd-thursday-of-the-month-7/
LOCATION:Senior Food Program @ MAAC Community Center\, 1387 Third Avenue\, Chula Vista\, CA\, 91911\, United States
CATEGORIES:Food Bank
ATTACH;FMTTYPE=image/jpeg:https://maacproject.org/wp-content/uploads/2024/06/IMG_5901-scaled-e1713278304459.jpg
END:VEVENT
BEGIN:VEVENT
DTSTART;TZID=America/Los_Angeles:20241016T160000
DTEND;TZID=America/Los_Angeles:20241016T180000
DTSTAMP:20260424T170256
CREATED:20240613T173940Z
LAST-MODIFIED:20240615T202446Z
UID:1180-1729094400-1729101600@maacproject.org
SUMMARY:Diaper Distribution – 3rd Wednesday
DESCRIPTION:DIAPER DISTRIBUTION /DISTRIBUCIÓN DE PAÑALES \nWALK up for services / Servicios en persona\nEvery 3rd Wednesday of the Month / Cada tercer miércoles \nFor more info\, go here.
URL:https://maacproject.org/event/diaper-distribution-3rd-wednesday-7/
LOCATION:MAAC North Campus\, 956 Vale Terrace Drive\, Vista\, CA\, 92084\, United States
CATEGORIES:Bi-Monthly Diaper Distribution
ATTACH;FMTTYPE=image/jpeg:https://maacproject.org/wp-content/uploads/2024/06/GettyImages-1167721346_lr.jpg
END:VEVENT
BEGIN:VEVENT
DTSTART;TZID=America/Los_Angeles:20241015T100000
DTEND;TZID=America/Los_Angeles:20241015T100000
DTSTAMP:20260424T170256
CREATED:20240613T172754Z
LAST-MODIFIED:20240618T135754Z
UID:1122-1728986400-1728986400@maacproject.org
SUMMARY:Food Bank – 3rd Tuesday of the Month
DESCRIPTION:10AM San Martin de Porres\n@ Grace Covenant Church\n9140 Akard Street\, Spring Valley\, CA 91977\nDrive-thru option preferred\nor walk up for services\n1:30PM\nLaurel Tree\n1307 Laurel Tree Lane\, Carlsbad\, CA 92011\nWalk up for services only\nFor more information\, go here.
URL:https://maacproject.org/event/food-bank-3rd-tuesday-of-the-month-7/
LOCATION:CA
CATEGORIES:Food Bank
ATTACH;FMTTYPE=image/jpeg:https://maacproject.org/wp-content/uploads/2024/06/IMG_5901-scaled-e1713278304459.jpg
END:VEVENT
BEGIN:VEVENT
DTSTART;TZID=America/Los_Angeles:20241008T090000
DTEND;TZID=America/Los_Angeles:20241008T090000
DTSTAMP:20260424T170256
CREATED:20240613T172924Z
LAST-MODIFIED:20240618T135611Z
UID:1148-1728378000-1728378000@maacproject.org
SUMMARY:Food Bank – 2nd Tuesday of the Month
DESCRIPTION:9AM Villa Lakeshore\n@ Lakeside Community Center\n9841 Vine Street\, Lakeside\, CA 92040\nDrive-thru option preferred\nor walk up for services \nFor more information\, go here.
URL:https://maacproject.org/event/food-bank-2nd-tuesday-of-the-month-7/
LOCATION:Lakeside Community Center (Villa Lakeshore Temp Location)\, 9841 Vine Street\, Lakeside\, CA\, 92040\, United States
CATEGORIES:Food Bank
ATTACH;FMTTYPE=image/jpeg:https://maacproject.org/wp-content/uploads/2024/06/IMG_5901-scaled-e1713278304459.jpg
END:VEVENT
BEGIN:VEVENT
DTSTART;TZID=America/Los_Angeles:20241003T090000
DTEND;TZID=America/Los_Angeles:20241003T090000
DTSTAMP:20260424T170256
CREATED:20240613T173139Z
LAST-MODIFIED:20240615T201241Z
UID:1161-1727946000-1727946000@maacproject.org
SUMMARY:Food Bank – 1st Thursday of the Month
DESCRIPTION:9AM Mercado \n2001 Newton Avenue\, San Diego\, CA 92113 \nWalk up for services only \nFor more information\, go here.
URL:https://maacproject.org/event/food-bank-1st-thursday-of-the-month-7/
LOCATION:Mercado Apartments\, 2001 Newton Avenue\, San Diego\, CA\, 92113\, United States
CATEGORIES:Food Bank
ATTACH;FMTTYPE=image/jpeg:https://maacproject.org/wp-content/uploads/2024/06/IMG_5901-scaled-e1713278304459.jpg
END:VEVENT
BEGIN:VEVENT
DTSTART;TZID=America/Los_Angeles:20241002T073000
DTEND;TZID=America/Los_Angeles:20241002T093000
DTSTAMP:20260424T170256
CREATED:20240613T173940Z
LAST-MODIFIED:20240615T203630Z
UID:1181-1727854200-1727861400@maacproject.org
SUMMARY:Diaper Distribution – 1st Wednesday
DESCRIPTION:DIAPER DISTRIBUTION /DISTRIBUCIÓN DE PAÑALES \nWALK up for services / Servicios en persona\nEvery 1st Wednesday of the Month / Cada primer miércoles \nFor more info\, go here.
URL:https://maacproject.org/event/diaper-distribution-1st-wednesday-7/
LOCATION:MAAC North Campus\, 956 Vale Terrace Drive\, Vista\, CA\, 92084\, United States
CATEGORIES:Bi-Monthly Diaper Distribution
ATTACH;FMTTYPE=image/jpeg:https://maacproject.org/wp-content/uploads/2024/06/GettyImages-1167721346_lr.jpg
END:VEVENT
BEGIN:VEVENT
DTSTART;TZID=America/Los_Angeles:20240927T090000
DTEND;TZID=America/Los_Angeles:20240927T090000
DTSTAMP:20260424T170256
CREATED:20240613T172724Z
LAST-MODIFIED:20240615T194441Z
UID:1110-1727427600-1727427600@maacproject.org
SUMMARY:Food Bank – 4th Friday of the Month
DESCRIPTION:9AM Senior Food Program\n@ MAAC Community Center\n1387 Third Avenue\, Chula Vista\, CA 91911 \nDrive-thru pick-up only \nFor more information\, go here.
URL:https://maacproject.org/event/food-bank-4th-friday-of-the-month-8/
LOCATION:Senior Food Program @ MAAC Community Center\, 1387 Third Avenue\, Chula Vista\, CA\, 91911\, United States
CATEGORIES:Food Bank
ATTACH;FMTTYPE=image/jpeg:https://maacproject.org/wp-content/uploads/2024/06/IMG_5901-scaled-e1713278304459.jpg
END:VEVENT
END:VCALENDAR