BEGIN:VCALENDAR
VERSION:2.0
PRODID:-//MAAC - ECPv6.15.20//NONSGML v1.0//EN
CALSCALE:GREGORIAN
METHOD:PUBLISH
X-WR-CALNAME:MAAC
X-ORIGINAL-URL:https://maacproject.org
X-WR-CALDESC:Events for MAAC
REFRESH-INTERVAL;VALUE=DURATION:PT1H
X-Robots-Tag:noindex
X-PUBLISHED-TTL:PT1H
BEGIN:VTIMEZONE
TZID:America/Los_Angeles
BEGIN:DAYLIGHT
TZOFFSETFROM:-0800
TZOFFSETTO:-0700
TZNAME:PDT
DTSTART:20250309T100000
END:DAYLIGHT
BEGIN:STANDARD
TZOFFSETFROM:-0700
TZOFFSETTO:-0800
TZNAME:PST
DTSTART:20251102T090000
END:STANDARD
BEGIN:DAYLIGHT
TZOFFSETFROM:-0800
TZOFFSETTO:-0700
TZNAME:PDT
DTSTART:20260308T100000
END:DAYLIGHT
BEGIN:STANDARD
TZOFFSETFROM:-0700
TZOFFSETTO:-0800
TZNAME:PST
DTSTART:20261101T090000
END:STANDARD
BEGIN:DAYLIGHT
TZOFFSETFROM:-0800
TZOFFSETTO:-0700
TZNAME:PDT
DTSTART:20270314T100000
END:DAYLIGHT
BEGIN:STANDARD
TZOFFSETFROM:-0700
TZOFFSETTO:-0800
TZNAME:PST
DTSTART:20271107T090000
END:STANDARD
END:VTIMEZONE
BEGIN:VEVENT
DTSTART;TZID=America/Los_Angeles:20260210T090000
DTEND;TZID=America/Los_Angeles:20260210T210000
DTSTAMP:20260424T004540
CREATED:20260203T144920Z
LAST-MODIFIED:20260203T151953Z
UID:5948-1770714000-1770757200@maacproject.org
SUMMARY:Food Bank – 2nd Tuesday of the Month
DESCRIPTION:9AM Villa Lakeshore\n@ Lakeside Community Center\n9841 Vine Street\, Lakeside\, CA 92040 \nDrive-thru option preferred\nor walk up for services\nFor more information\, go here.
URL:https://maacproject.org/event/food-bank-2nd-tuesday-of-the-month-23/
LOCATION:Lakeside Community Center (Villa Lakeshore Temp Location)\, 9841 Vine Street\, Lakeside\, CA\, 92040\, United States
CATEGORIES:Food Bank
ATTACH;FMTTYPE=image/jpeg:https://maacproject.org/wp-content/uploads/2024/06/IMG_5901-scaled-e1713278304459.jpg
END:VEVENT
BEGIN:VEVENT
DTSTART;TZID=America/Los_Angeles:20260211T120000
DTEND;TZID=America/Los_Angeles:20260211T180000
DTSTAMP:20260424T004540
CREATED:20260114T211127Z
LAST-MODIFIED:20260127T223644Z
UID:5864-1770811200-1770832800@maacproject.org
SUMMARY:SD Solid Waste Assistance Program Clinic
DESCRIPTION:February 11th — 12:00 – 6:00 pm \nAdams Recreation Center\n3491 Adams Avenue\nSan Diego\, CA 92116 \nCeramics Room
URL:https://maacproject.org/event/sd-solid-waste-assistance-program-clinic-2/
LOCATION:Adams Recreation Center\, 3491 Adams Avenue\, San Diego\, CA\, 92116\, United States
CATEGORIES:Economic Development
ATTACH;FMTTYPE=image/jpeg:https://maacproject.org/wp-content/uploads/2025/12/City-of-San-Diego-collection-service-scaled.jpg
END:VEVENT
BEGIN:VEVENT
DTSTART;TZID=America/Los_Angeles:20260218T120000
DTEND;TZID=America/Los_Angeles:20260218T180000
DTSTAMP:20260424T004540
CREATED:20260114T211524Z
LAST-MODIFIED:20260127T223726Z
UID:5867-1771416000-1771437600@maacproject.org
SUMMARY:SD Solid Waste Assistance Program Clinic
DESCRIPTION:February 18th — 12:00 – 6:00 pm \nAllied Gardens Recreation Center \n5155 Greenbrier Avenue\nSan Diego\, CA 92120 \nRoom TBD
URL:https://maacproject.org/event/sd-solid-waste-assistance-program-clinic-3/
LOCATION:Allied Gardens Recreation Center\, 5155 Greenbrier Avenue\, San Diego\, CA\, 92120\, United States
CATEGORIES:Economic Development
ATTACH;FMTTYPE=image/jpeg:https://maacproject.org/wp-content/uploads/2025/12/City-of-San-Diego-collection-service-scaled.jpg
END:VEVENT
BEGIN:VEVENT
DTSTART;TZID=America/Los_Angeles:20260218T160000
DTEND;TZID=America/Los_Angeles:20260218T180000
DTSTAMP:20260424T004540
CREATED:20260203T145240Z
LAST-MODIFIED:20260203T145240Z
UID:5949-1771430400-1771437600@maacproject.org
SUMMARY:Diaper Distribution – 3rd Wednesday of the Month
DESCRIPTION:DIAPER DISTRIBUTION /DISTRIBUCIÓN DE PAÑALES \nWALK up for services / Servicios en persona\nEvery 3rd Wednesday of the Month / Cada tercer miércoles \nFor more info\, go here.
URL:https://maacproject.org/event/diaper-distribution-3rd-wednesday-of-the-month-2/
LOCATION:MAAC North Campus\, 956 Vale Terrace Drive\, Vista\, CA\, 92084\, United States
CATEGORIES:Bi-Monthly Diaper Distribution
ATTACH;FMTTYPE=image/jpeg:https://maacproject.org/wp-content/uploads/2024/06/GettyImages-1167721346_lr.jpg
END:VEVENT
BEGIN:VEVENT
DTSTART;TZID=America/Los_Angeles:20260219T083000
DTEND;TZID=America/Los_Angeles:20260219T083000
DTSTAMP:20260424T004540
CREATED:20260203T150302Z
LAST-MODIFIED:20260203T152005Z
UID:5956-1771489800-1771489800@maacproject.org
SUMMARY:Food Bank – 3rd Thursday of the Month
DESCRIPTION:8:30AM MAAC Community Center\n1385 Third Avenue\, Chula Vista\, CA 91911\nDrive-thru option preferred\nor walk up for services: If walking up\, please bring a cart & reusable bag. \nFor more information\, click here.
URL:https://maacproject.org/event/food-bank-3rd-thursday-of-the-month-20/
LOCATION:MAAC Community Center\, 1387 Third Avenue\, Chula Vista\, 91911\, United States
CATEGORIES:Food Bank
ATTACH;FMTTYPE=image/jpeg:https://maacproject.org/wp-content/uploads/2024/06/IMG_5901-scaled-e1713278304459.jpg
END:VEVENT
BEGIN:VEVENT
DTSTART;TZID=America/Los_Angeles:20260225T093000
DTEND;TZID=America/Los_Angeles:20260225T153000
DTSTAMP:20260424T004540
CREATED:20260114T211935Z
LAST-MODIFIED:20260224T185658Z
UID:5870-1772011800-1772033400@maacproject.org
SUMMARY:SD Solid Waste Assistance Program Clinic
DESCRIPTION:February 25th — 9:30 am – 3:30 pm \nCentral Library\n330 Park Boulevard\nSan Diego\, CA 92101 \nRoom 305
URL:https://maacproject.org/event/sd-solid-waste-assistance-program-clinic-4/
LOCATION:Central Library\, 330 Park Boulevard\, San Diego\, CA\, 92101\, United States
CATEGORIES:Economic Development
ATTACH;FMTTYPE=image/jpeg:https://maacproject.org/wp-content/uploads/2025/12/City-of-San-Diego-collection-service-scaled.jpg
END:VEVENT
BEGIN:VEVENT
DTSTART;TZID=America/Los_Angeles:20260227T090000
DTEND;TZID=America/Los_Angeles:20260227T090000
DTSTAMP:20260424T004540
CREATED:20260203T145509Z
LAST-MODIFIED:20260203T152024Z
UID:5950-1772182800-1772182800@maacproject.org
SUMMARY:Food Bank – 4th Friday of the Month
DESCRIPTION:9AM Senior Food Program\n@ MAAC Community Center\n1387 Third Avenue\, Chula Vista\, CA 91911 \nDrive-thru pick-up only \nFor more information\, go here
URL:https://maacproject.org/event/food-bank-4th-friday-of-the-month-21/
LOCATION:Senior Food Program @ MAAC Community Center\, 1387 Third Avenue\, Chula Vista\, CA\, 91911\, United States
CATEGORIES:Food Bank
ATTACH;FMTTYPE=image/jpeg:https://maacproject.org/wp-content/uploads/2024/06/IMG_5901-scaled-e1713278304459.jpg
END:VEVENT
BEGIN:VEVENT
DTSTART;TZID=America/Los_Angeles:20260304T073000
DTEND;TZID=America/Los_Angeles:20260304T093000
DTSTAMP:20260424T004540
CREATED:20260203T150647Z
LAST-MODIFIED:20260203T150647Z
UID:5958-1772609400-1772616600@maacproject.org
SUMMARY:Diaper Distribution – 1st Wednesday of the Month
DESCRIPTION:DIAPER DISTRIBUTION /DISTRIBUCIÓN DE PAÑALES \nWALK up for services / Servicios en persona\nEvery 1st Wednesday of the Month / Cada primer miércoles \nFor more info\, go here.
URL:https://maacproject.org/event/diaper-distribution-1st-wednesday-of-the-month-3/
LOCATION:MAAC North Campus\, 956 Vale Terrace Drive\, Vista\, CA\, 92084\, United States
CATEGORIES:Bi-Monthly Diaper Distribution
ATTACH;FMTTYPE=image/jpeg:https://maacproject.org/wp-content/uploads/2024/06/GettyImages-1167721346_lr.jpg
END:VEVENT
BEGIN:VEVENT
DTSTART;TZID=America/Los_Angeles:20260304T093000
DTEND;TZID=America/Los_Angeles:20260304T153000
DTSTAMP:20260424T004540
CREATED:20260114T212319Z
LAST-MODIFIED:20260127T223617Z
UID:5873-1772616600-1772638200@maacproject.org
SUMMARY:SD Solid Waste Assistance Program Clinic
DESCRIPTION:March 4th —  9:30 am – 3:30 pm \nMira Mesa Library \n8405 New Salem Street\nSan Diego\, CA 92126 \nCommunity Room
URL:https://maacproject.org/event/sd-solid-waste-assistance-program-clinic-5/
LOCATION:Mira Mesa Library\, 8405 New Salem Street\, San Diego\, CA\, 92126\, United States
CATEGORIES:Economic Development
ATTACH;FMTTYPE=image/jpeg:https://maacproject.org/wp-content/uploads/2025/12/City-of-San-Diego-collection-service-scaled.jpg
END:VEVENT
BEGIN:VEVENT
DTSTART;TZID=America/Los_Angeles:20260305T090000
DTEND;TZID=America/Los_Angeles:20260305T090000
DTSTAMP:20260424T004540
CREATED:20260203T150920Z
LAST-MODIFIED:20260203T152142Z
UID:5959-1772701200-1772701200@maacproject.org
SUMMARY:Food Bank – 1st Thursday of the Month
DESCRIPTION:9AM Mercado \n2001 Newton Avenue\, San Diego\, CA 92113 \nWalk up for services only \nFor more information\, go here.
URL:https://maacproject.org/event/food-bank-1st-thursday-of-the-month-23/
LOCATION:Mercado Apartments\, 2001 Newton Avenue\, San Diego\, CA\, 92113\, United States
CATEGORIES:Food Bank
ATTACH;FMTTYPE=image/jpeg:https://maacproject.org/wp-content/uploads/2024/06/IMG_5901-scaled-e1713278304459.jpg
END:VEVENT
BEGIN:VEVENT
DTSTART;TZID=America/Los_Angeles:20260310T090000
DTEND;TZID=America/Los_Angeles:20260310T090000
DTSTAMP:20260424T004540
CREATED:20260203T151228Z
LAST-MODIFIED:20260302T184630Z
UID:5960-1773133200-1773133200@maacproject.org
SUMMARY:Food Bank – 2nd Tuesday of the Month
DESCRIPTION:9AM Villa Lakeshore\n@ Lakeside Community Center\n9841 Vine Street\, Lakeside\, CA 92040 \nDrive-thru option preferred\nor walk up for services\nFor more information\, go here.
URL:https://maacproject.org/event/food-bank-2nd-tuesday-of-the-month-24/
LOCATION:Lakeside Community Center (Villa Lakeshore Temp Location)\, 9841 Vine Street\, Lakeside\, CA\, 92040\, United States
CATEGORIES:Food Bank
ATTACH;FMTTYPE=image/jpeg:https://maacproject.org/wp-content/uploads/2024/06/IMG_5901-scaled-e1713278304459.jpg
END:VEVENT
BEGIN:VEVENT
DTSTART;TZID=America/Los_Angeles:20260311T093000
DTEND;TZID=America/Los_Angeles:20260311T153000
DTSTAMP:20260424T004540
CREATED:20260114T212957Z
LAST-MODIFIED:20260127T223803Z
UID:5876-1773221400-1773243000@maacproject.org
SUMMARY:SD Solid Waste Assistance Program Clinic
DESCRIPTION:March 11th —  9:30 am – 3:30 pm \nMission Hills – Hillcrest/Knox Library \n215 W. Washington Street\nSan Diego\, CA 92103 \nStudy Rooms
URL:https://maacproject.org/event/sd-solid-waste-assistance-program-clinic-6/
LOCATION:Mission Hills – Hillcrest/Knox Library\, 215 W. Washington Street\, San Diego\, CA\, 92103\, United States
CATEGORIES:Economic Development
ATTACH;FMTTYPE=image/jpeg:https://maacproject.org/wp-content/uploads/2025/12/City-of-San-Diego-collection-service-scaled.jpg
END:VEVENT
BEGIN:VEVENT
DTSTART;TZID=America/Los_Angeles:20260318T093000
DTEND;TZID=America/Los_Angeles:20260318T153000
DTSTAMP:20260424T004540
CREATED:20260114T213315Z
LAST-MODIFIED:20260127T223822Z
UID:5879-1773826200-1773847800@maacproject.org
SUMMARY:SD Solid Waste Assistance Program Clinic
DESCRIPTION:March 18th —  9:30 am – 3:30 pm \nMission Valley Library \n2123 Fenton Parkway\nSan Diego\, CA 92108 \nSeminar Room B
URL:https://maacproject.org/event/sd-solid-waste-assistance-program-clinic-7/
LOCATION:Mission Valley Library\, 2123 Fenton Parkway\, San Diego\, CA\, 92108\, United States
CATEGORIES:Economic Development
ATTACH;FMTTYPE=image/jpeg:https://maacproject.org/wp-content/uploads/2025/12/City-of-San-Diego-collection-service-scaled.jpg
END:VEVENT
BEGIN:VEVENT
DTSTART;TZID=America/Los_Angeles:20260318T160000
DTEND;TZID=America/Los_Angeles:20260318T180000
DTSTAMP:20260424T004540
CREATED:20260203T151415Z
LAST-MODIFIED:20260203T151415Z
UID:5961-1773849600-1773856800@maacproject.org
SUMMARY:Diaper Distribution – 3rd Wednesday of the Month
DESCRIPTION:DIAPER DISTRIBUTION /DISTRIBUCIÓN DE PAÑALES \nWALK up for services / Servicios en persona\nEvery 3rd Wednesday of the Month / Cada tercer miércoles \nFor more info\, go here.
URL:https://maacproject.org/event/diaper-distribution-3rd-wednesday-of-the-month-3/
LOCATION:MAAC North Campus\, 956 Vale Terrace Drive\, Vista\, CA\, 92084\, United States
CATEGORIES:Bi-Monthly Diaper Distribution
ATTACH;FMTTYPE=image/jpeg:https://maacproject.org/wp-content/uploads/2024/06/GettyImages-1167721346_lr.jpg
END:VEVENT
BEGIN:VEVENT
DTSTART;TZID=America/Los_Angeles:20260319T083000
DTEND;TZID=America/Los_Angeles:20260319T083000
DTSTAMP:20260424T004540
CREATED:20260203T151602Z
LAST-MODIFIED:20260203T151602Z
UID:5962-1773909000-1773909000@maacproject.org
SUMMARY:Food Bank – 3rd Thursday of the Month
DESCRIPTION:8:30AM MAAC Community Center\n1385 Third Avenue\, Chula Vista\, CA 91911\nDrive-thru option preferred\nor walk up for services: If walking up\, please bring a cart & reusable bag. \nFor more information\, click here.
URL:https://maacproject.org/event/food-bank-3rd-thursday-of-the-month-21/
LOCATION:MAAC Community Center\, 1387 Third Avenue\, Chula Vista\, 91911\, United States
CATEGORIES:Food Bank
ATTACH;FMTTYPE=image/jpeg:https://maacproject.org/wp-content/uploads/2024/06/IMG_5901-scaled-e1713278304459.jpg
END:VEVENT
BEGIN:VEVENT
DTSTART;TZID=America/Los_Angeles:20260325T093000
DTEND;TZID=America/Los_Angeles:20260325T153000
DTSTAMP:20260424T004540
CREATED:20260114T213616Z
LAST-MODIFIED:20260127T223840Z
UID:5882-1774431000-1774452600@maacproject.org
SUMMARY:SD Solid Waste Assistance Program Clinic
DESCRIPTION:March 25th — 9:30 am – 3:30 pm \nNorth Park Library \n3795 31st Street\nSan Diego\, CA 92104 \nAdult Reading Area
URL:https://maacproject.org/event/sd-solid-waste-assistance-program-clinic-8/
LOCATION:North Park Library\, 3795 31st Street\, San Diego\, CA\, 92104\, United States
CATEGORIES:Economic Development
ATTACH;FMTTYPE=image/jpeg:https://maacproject.org/wp-content/uploads/2025/12/City-of-San-Diego-collection-service-scaled.jpg
END:VEVENT
BEGIN:VEVENT
DTSTART;TZID=America/Los_Angeles:20260327T090000
DTEND;TZID=America/Los_Angeles:20260327T090000
DTSTAMP:20260424T004540
CREATED:20260203T151805Z
LAST-MODIFIED:20260203T151805Z
UID:5963-1774602000-1774602000@maacproject.org
SUMMARY:Food Bank – 4th Friday of the Month
DESCRIPTION:9AM Senior Food Program\n@ MAAC Community Center\n1387 Third Avenue\, Chula Vista\, CA 91911 \nDrive-thru pick-up only \nFor more information\, go here
URL:https://maacproject.org/event/food-bank-4th-friday-of-the-month-22/
LOCATION:Senior Food Program @ MAAC Community Center\, 1387 Third Avenue\, Chula Vista\, CA\, 91911\, United States
CATEGORIES:Food Bank
ATTACH;FMTTYPE=image/jpeg:https://maacproject.org/wp-content/uploads/2024/06/IMG_5901-scaled-e1713278304459.jpg
END:VEVENT
BEGIN:VEVENT
DTSTART;TZID=America/Los_Angeles:20260401T073000
DTEND;TZID=America/Los_Angeles:20260401T093000
DTSTAMP:20260424T004540
CREATED:20260203T152428Z
LAST-MODIFIED:20260203T152428Z
UID:5970-1775028600-1775035800@maacproject.org
SUMMARY:Diaper Distribution – 1st Wednesday of the Month
DESCRIPTION:DIAPER DISTRIBUTION /DISTRIBUCIÓN DE PAÑALES \nWALK up for services / Servicios en persona\nEvery 1st Wednesday of the Month / Cada primer miércoles \nFor more info\, go here.
URL:https://maacproject.org/event/diaper-distribution-1st-wednesday-of-the-month-4/
LOCATION:MAAC North Campus\, 956 Vale Terrace Drive\, Vista\, CA\, 92084\, United States
CATEGORIES:Bi-Monthly Diaper Distribution
ATTACH;FMTTYPE=image/jpeg:https://maacproject.org/wp-content/uploads/2024/06/GettyImages-1167721346_lr.jpg
END:VEVENT
BEGIN:VEVENT
DTSTART;TZID=America/Los_Angeles:20260401T093000
DTEND;TZID=America/Los_Angeles:20260401T153000
DTSTAMP:20260424T004540
CREATED:20260227T220105Z
LAST-MODIFIED:20260227T220105Z
UID:6055-1775035800-1775057400@maacproject.org
SUMMARY:SD Solid Waste Assistance Program Clinic
DESCRIPTION:April 1st —  9:30 am – 3:30 pm \nNorth Clairemont Library\n4616 Clairemont Drive\nSan Diego\, CA 92117 \nMeeting Room
URL:https://maacproject.org/event/sd-solid-waste-assistance-program-clinic-12/
LOCATION:Clairemont Library\, 4616 Clairemont Drive\, San Diego\, CA\, 92117\, United States
CATEGORIES:Economic Development
ATTACH;FMTTYPE=image/jpeg:https://maacproject.org/wp-content/uploads/2025/12/City-of-San-Diego-trash-bins-with-gray-background-scaled.jpg
END:VEVENT
BEGIN:VEVENT
DTSTART;TZID=America/Los_Angeles:20260402T090000
DTEND;TZID=America/Los_Angeles:20260402T210000
DTSTAMP:20260424T004540
CREATED:20260203T152614Z
LAST-MODIFIED:20260203T152614Z
UID:5971-1775120400-1775163600@maacproject.org
SUMMARY:Food Bank – 1st Thursday of the Month
DESCRIPTION:9AM Mercado \n2001 Newton Avenue\, San Diego\, CA 92113 \nWalk up for services only \nFor more information\, go here.
URL:https://maacproject.org/event/food-bank-1st-thursday-of-the-month-24/
LOCATION:Mercado Apartments\, 2001 Newton Avenue\, San Diego\, CA\, 92113\, United States
CATEGORIES:Food Bank
ATTACH;FMTTYPE=image/jpeg:https://maacproject.org/wp-content/uploads/2024/06/IMG_5901-scaled-e1713278304459.jpg
END:VEVENT
BEGIN:VEVENT
DTSTART;TZID=America/Los_Angeles:20260408T093000
DTEND;TZID=America/Los_Angeles:20260408T153000
DTSTAMP:20260424T004540
CREATED:20260114T214143Z
LAST-MODIFIED:20260127T223854Z
UID:5885-1775640600-1775662200@maacproject.org
SUMMARY:SD Solid Waste Assistance Program Clinic
DESCRIPTION:April 8th — 9:30 am – 3:30 pm \nPark de la Cruz Community Center \n3901 Landis Street\nSan Diego\, CA 92105 \nRoom TBD
URL:https://maacproject.org/event/sd-solid-waste-assistance-program-clinic-9/
LOCATION:Park de la Cruz Community Center\, 3901 Landis Street\, San Diego\, CA\, 92105\, United States
CATEGORIES:Economic Development
ATTACH;FMTTYPE=image/jpeg:https://maacproject.org/wp-content/uploads/2025/12/City-of-San-Diego-collection-service-scaled.jpg
END:VEVENT
BEGIN:VEVENT
DTSTART;TZID=America/Los_Angeles:20260413T123000
DTEND;TZID=America/Los_Angeles:20260413T180000
DTSTAMP:20260424T004540
CREATED:20260408T142656Z
LAST-MODIFIED:20260408T142724Z
UID:6243-1776083400-1776103200@maacproject.org
SUMMARY:SD Solid Waste Assistance Program Clinic
DESCRIPTION:May 13th — 12:30 Noon – 6:00 pm \nAllied Gardens Recreation Center\n5155 Greenbrier Avenue\nSan Diego\, CA 92120 \nChairs in Hallway
URL:https://maacproject.org/event/sd-solid-waste-assistance-program-clinic-14/
LOCATION:Allied Gardens Recreation Center\, 5155 Greenbrier Avenue\, San Diego\, CA\, 92120\, United States
CATEGORIES:SD Solid Waste Assistance - EconDev
ATTACH;FMTTYPE=image/jpeg:https://maacproject.org/wp-content/uploads/2025/12/City-of-San-Diego-collection-service-scaled.jpg
END:VEVENT
BEGIN:VEVENT
DTSTART;TZID=America/Los_Angeles:20260414T090000
DTEND;TZID=America/Los_Angeles:20260414T090000
DTSTAMP:20260424T004540
CREATED:20260203T152809Z
LAST-MODIFIED:20260203T152809Z
UID:5972-1776157200-1776157200@maacproject.org
SUMMARY:Food Bank – 2nd Tuesday of the Month
DESCRIPTION:9AM Villa Lakeshore\n@ Lakeside Community Center\n9841 Vine Street\, Lakeside\, CA 92040 \nDrive-thru option preferred\nor walk up for services\nFor more information\, go here.
URL:https://maacproject.org/event/food-bank-2nd-tuesday-of-the-month-25/
LOCATION:Lakeside Community Center (Villa Lakeshore Temp Location)\, 9841 Vine Street\, Lakeside\, CA\, 92040\, United States
CATEGORIES:Food Bank
ATTACH;FMTTYPE=image/jpeg:https://maacproject.org/wp-content/uploads/2024/06/IMG_5901-scaled-e1713278304459.jpg
END:VEVENT
BEGIN:VEVENT
DTSTART;TZID=America/Los_Angeles:20260415T093000
DTEND;TZID=America/Los_Angeles:20260415T153000
DTSTAMP:20260424T004540
CREATED:20260205T135509Z
LAST-MODIFIED:20260205T135509Z
UID:6011-1776245400-1776267000@maacproject.org
SUMMARY:SD Solid Waste Assistance Program Clinic
DESCRIPTION:April 15th — 9:30 am – 3:30 pm \nValencia Park / Malcolm X Library\n5148 Market Street\nSan Diego\, CA 92114 \nSeminar Room B
URL:https://maacproject.org/event/sd-solid-waste-assistance-program-clinic-10/
LOCATION:Valencia Park / Malcolm X Library\, 5148 Market Street\, San Diego\, CA\, 92114\, United States
ATTACH;FMTTYPE=image/jpeg:https://maacproject.org/wp-content/uploads/2025/12/City-of-San-Diego-collection-service-scaled.jpg
END:VEVENT
BEGIN:VEVENT
DTSTART;TZID=America/Los_Angeles:20260415T160000
DTEND;TZID=America/Los_Angeles:20260415T180000
DTSTAMP:20260424T004540
CREATED:20260203T152944Z
LAST-MODIFIED:20260203T152944Z
UID:5973-1776268800-1776276000@maacproject.org
SUMMARY:Diaper Distribution – 3rd Wednesday of the Month
DESCRIPTION:DIAPER DISTRIBUTION /DISTRIBUCIÓN DE PAÑALES \nWALK up for services / Servicios en persona\nEvery 3rd Wednesday of the Month / Cada tercer miércoles \nFor more info\, go here.
URL:https://maacproject.org/event/diaper-distribution-3rd-wednesday-of-the-month-4/
LOCATION:MAAC North Campus\, 956 Vale Terrace Drive\, Vista\, CA\, 92084\, United States
CATEGORIES:Bi-Monthly Diaper Distribution
ATTACH;FMTTYPE=image/jpeg:https://maacproject.org/wp-content/uploads/2024/06/GettyImages-1167721346_lr.jpg
END:VEVENT
BEGIN:VEVENT
DTSTART;TZID=America/Los_Angeles:20260416T083000
DTEND;TZID=America/Los_Angeles:20260416T083000
DTSTAMP:20260424T004540
CREATED:20260203T153148Z
LAST-MODIFIED:20260203T153148Z
UID:5974-1776328200-1776328200@maacproject.org
SUMMARY:Food Bank – 3rd Thursday of the Month
DESCRIPTION:8:30AM MAAC Community Center\n1385 Third Avenue\, Chula Vista\, CA 91911\nDrive-thru option preferred\nor walk up for services: If walking up\, please bring a cart & reusable bag. \nFor more information\, click here.
URL:https://maacproject.org/event/food-bank-3rd-thursday-of-the-month-22/
LOCATION:MAAC Community Center\, 1387 Third Avenue\, Chula Vista\, 91911\, United States
CATEGORIES:Food Bank
ATTACH;FMTTYPE=image/jpeg:https://maacproject.org/wp-content/uploads/2024/06/IMG_5901-scaled-e1713278304459.jpg
END:VEVENT
BEGIN:VEVENT
DTSTART;TZID=America/Los_Angeles:20260424T090000
DTEND;TZID=America/Los_Angeles:20260424T090000
DTSTAMP:20260424T004540
CREATED:20260203T153349Z
LAST-MODIFIED:20260203T153349Z
UID:5975-1777021200-1777021200@maacproject.org
SUMMARY:Food Bank – 4th Friday of the Month
DESCRIPTION:9AM Senior Food Program\n@ MAAC Community Center\n1387 Third Avenue\, Chula Vista\, CA 91911 \nDrive-thru pick-up only \nFor more information\, go here
URL:https://maacproject.org/event/food-bank-4th-friday-of-the-month-23/
LOCATION:Senior Food Program @ MAAC Community Center\, 1387 Third Avenue\, Chula Vista\, CA\, 91911\, United States
CATEGORIES:Food Bank
ATTACH;FMTTYPE=image/jpeg:https://maacproject.org/wp-content/uploads/2024/06/IMG_5901-scaled-e1713278304459.jpg
END:VEVENT
BEGIN:VEVENT
DTSTART;TZID=America/Los_Angeles:20260424T120000
DTEND;TZID=America/Los_Angeles:20260424T180000
DTSTAMP:20260424T004540
CREATED:20260205T135801Z
LAST-MODIFIED:20260205T135801Z
UID:6014-1777032000-1777053600@maacproject.org
SUMMARY:SD Solid Waste Assistance Program Clinic
DESCRIPTION:April 24th — 12 Noon – 6:00 pm \nValencia Park / Malcolm X Library\n5148 Market Street\nSan Diego\, CA 92114 \nSeminar Room B
URL:https://maacproject.org/event/sd-solid-waste-assistance-program-clinic-11/
LOCATION:Valencia Park / Malcolm X Library\, 5148 Market Street\, San Diego\, CA\, 92114\, United States
ATTACH;FMTTYPE=image/jpeg:https://maacproject.org/wp-content/uploads/2025/12/City-of-San-Diego-collection-service-scaled.jpg
END:VEVENT
BEGIN:VEVENT
DTSTART;TZID=America/Los_Angeles:20260506T073000
DTEND;TZID=America/Los_Angeles:20260506T093000
DTSTAMP:20260424T004540
CREATED:20260408T185604Z
LAST-MODIFIED:20260408T185604Z
UID:6265-1778052600-1778059800@maacproject.org
SUMMARY:Diaper Distribution – 1st Wednesday of the Month
DESCRIPTION:DIAPER DISTRIBUTION /DISTRIBUCIÓN DE PAÑALES \nWALK up for services / Servicios en persona\nEvery 1st Wednesday of the Month / Cada primer miércoles \nFor more info\, go here.
URL:https://maacproject.org/event/diaper-distribution-1st-wednesday-of-the-month-5/
LOCATION:MAAC North Campus\, 956 Vale Terrace Drive\, Vista\, CA\, 92084\, United States
CATEGORIES:Bi-Monthly Diaper Distribution
ATTACH;FMTTYPE=image/jpeg:https://maacproject.org/wp-content/uploads/2024/06/GettyImages-1167721346_lr.jpg
END:VEVENT
BEGIN:VEVENT
DTSTART;TZID=America/Los_Angeles:20260507T090000
DTEND;TZID=America/Los_Angeles:20260507T090000
DTSTAMP:20260424T004540
CREATED:20260408T191132Z
LAST-MODIFIED:20260408T210120Z
UID:6267-1778144400-1778144400@maacproject.org
SUMMARY:Food Bank – 1st Thursday of the Month
DESCRIPTION:9AM Mercado \n2001 Newton Avenue\, San Diego\, CA 92113 \nWalk up for services only \nFor more information\, go here.
URL:https://maacproject.org/event/food-bank-1st-thursday-of-the-month-25/
LOCATION:Mercado Apartments\, 2001 Newton Avenue\, San Diego\, CA\, 92113\, United States
CATEGORIES:Food Bank
ATTACH;FMTTYPE=image/jpeg:https://maacproject.org/wp-content/uploads/2024/06/IMG_5901-scaled-e1713278304459.jpg
END:VEVENT
END:VCALENDAR