BEGIN:VCALENDAR
VERSION:2.0
PRODID:-//MAAC - ECPv6.15.20//NONSGML v1.0//EN
CALSCALE:GREGORIAN
METHOD:PUBLISH
X-WR-CALNAME:MAAC
X-ORIGINAL-URL:https://maacproject.org
X-WR-CALDESC:Events for MAAC
REFRESH-INTERVAL;VALUE=DURATION:PT1H
X-Robots-Tag:noindex
X-PUBLISHED-TTL:PT1H
BEGIN:VTIMEZONE
TZID:America/Los_Angeles
BEGIN:DAYLIGHT
TZOFFSETFROM:-0800
TZOFFSETTO:-0700
TZNAME:PDT
DTSTART:20240310T100000
END:DAYLIGHT
BEGIN:STANDARD
TZOFFSETFROM:-0700
TZOFFSETTO:-0800
TZNAME:PST
DTSTART:20241103T090000
END:STANDARD
BEGIN:DAYLIGHT
TZOFFSETFROM:-0800
TZOFFSETTO:-0700
TZNAME:PDT
DTSTART:20250309T100000
END:DAYLIGHT
BEGIN:STANDARD
TZOFFSETFROM:-0700
TZOFFSETTO:-0800
TZNAME:PST
DTSTART:20251102T090000
END:STANDARD
BEGIN:DAYLIGHT
TZOFFSETFROM:-0800
TZOFFSETTO:-0700
TZNAME:PDT
DTSTART:20260308T100000
END:DAYLIGHT
BEGIN:STANDARD
TZOFFSETFROM:-0700
TZOFFSETTO:-0800
TZNAME:PST
DTSTART:20261101T090000
END:STANDARD
END:VTIMEZONE
BEGIN:VEVENT
DTSTART;TZID=America/Los_Angeles:20251118T000000
DTEND;TZID=America/Los_Angeles:20251118T000000
DTSTAMP:20260423T232755
CREATED:20251104T212806Z
LAST-MODIFIED:20251104T212806Z
UID:5544-1763424000-1763424000@maacproject.org
SUMMARY:Food Bank – 3rd Tuesday of the Month
DESCRIPTION:10AM San Martin de Porres\n@ Grace Covenant Church\n9140 Akard Street\, Spring Valley\, CA 91977\nDrive-thru option preferred\nor walk up for services \n1:30PM Laurel Tree\n1307 Laurel Tree Lane\, Carlsbad\, CA 92011\nWalk up for services only
URL:https://maacproject.org/event/food-bank-3rd-tuesday-of-the-month-20/
LOCATION:CA
CATEGORIES:Food Bank
ATTACH;FMTTYPE=image/jpeg:https://maacproject.org/wp-content/uploads/2024/06/IMG_9426-scaled.jpg
END:VEVENT
BEGIN:VEVENT
DTSTART;TZID=America/Los_Angeles:20251111T090000
DTEND;TZID=America/Los_Angeles:20251111T090000
DTSTAMP:20260423T232755
CREATED:20251104T212352Z
LAST-MODIFIED:20251104T212352Z
UID:5540-1762851600-1762851600@maacproject.org
SUMMARY:Food Bank – 2nd Tuesday of the Month
DESCRIPTION:9AM Villa Lakeshore\n@ Lakeside Community Center\n9841 Vine Street\, Lakeside\, CA 92040 \nDrive-thru option preferred\nor walk up for services\nFor more information\, go here.
URL:https://maacproject.org/event/food-bank-2nd-tuesday-of-the-month-20/
LOCATION:Lakeside Community Center (Villa Lakeshore Temp Location)\, 9841 Vine Street\, Lakeside\, CA\, 92040\, United States
CATEGORIES:Food Bank
ATTACH;FMTTYPE=image/jpeg:https://maacproject.org/wp-content/uploads/2024/06/IMG_9426-scaled.jpg
END:VEVENT
BEGIN:VEVENT
DTSTART;TZID=America/Los_Angeles:20251106T090000
DTEND;TZID=America/Los_Angeles:20251106T090000
DTSTAMP:20260423T232755
CREATED:20251104T212135Z
LAST-MODIFIED:20251104T212135Z
UID:5538-1762419600-1762419600@maacproject.org
SUMMARY:Food Bank – 1st Thursday of the Month
DESCRIPTION:9AM Mercado \n2001 Newton Avenue\, San Diego\, CA 92113 \nWalk up for services only \nFor more information\, go here.
URL:https://maacproject.org/event/food-bank-1st-thursday-of-the-month-20/
LOCATION:Mercado Apartments\, 2001 Newton Avenue\, San Diego\, CA\, 92113\, United States
CATEGORIES:Food Bank
ATTACH;FMTTYPE=image/jpeg:https://maacproject.org/wp-content/uploads/2024/06/IMG_9426-scaled.jpg
END:VEVENT
BEGIN:VEVENT
DTSTART;TZID=America/Los_Angeles:20251024T090000
DTEND;TZID=America/Los_Angeles:20251024T090000
DTSTAMP:20260423T232755
CREATED:20251104T210740Z
LAST-MODIFIED:20251104T210740Z
UID:5531-1761296400-1761296400@maacproject.org
SUMMARY:Food Bank – 4th Friday of the Month
DESCRIPTION:9AM Senior Food Program\n@ MAAC Community Center\n1387 Third Avenue\, Chula Vista\, CA 91911 \nDrive-thru pick-up only \nFor more information\, go here
URL:https://maacproject.org/event/food-bank-4th-friday-of-the-month-19/
LOCATION:Senior Food Program @ MAAC Community Center\, 1387 Third Avenue\, Chula Vista\, CA\, 91911\, United States
CATEGORIES:Food Bank
ATTACH;FMTTYPE=image/jpeg:https://maacproject.org/wp-content/uploads/2024/06/IMG_5901-scaled-e1713278304459.jpg
END:VEVENT
BEGIN:VEVENT
DTSTART;TZID=America/Los_Angeles:20251016T000000
DTEND;TZID=America/Los_Angeles:20251016T000000
DTSTAMP:20260423T232755
CREATED:20251104T205957Z
LAST-MODIFIED:20251104T205957Z
UID:5525-1760572800-1760572800@maacproject.org
SUMMARY:Food Bank – 3rd Tuesday of the Month
DESCRIPTION:10AM San Martin de Porres\n@ Grace Covenant Church\n9140 Akard Street\, Spring Valley\, CA 91977\nDrive-thru option preferred\nor walk up for services \n1:30PM Laurel Tree\n1307 Laurel Tree Lane\, Carlsbad\, CA 92011\nWalk up for services only
URL:https://maacproject.org/event/food-bank-3rd-tuesday-of-the-month-19/
LOCATION:CA
CATEGORIES:Food Bank
ATTACH;FMTTYPE=image/jpeg:https://maacproject.org/wp-content/uploads/2024/06/IMG_5901-scaled-e1713278304459.jpg
END:VEVENT
BEGIN:VEVENT
DTSTART;TZID=America/Los_Angeles:20251009T090000
DTEND;TZID=America/Los_Angeles:20251009T210000
DTSTAMP:20260423T232755
CREATED:20251104T205603Z
LAST-MODIFIED:20251104T205603Z
UID:5523-1760000400-1760043600@maacproject.org
SUMMARY:Food Bank – 2nd Tuesday of the Month
DESCRIPTION:9AM Villa Lakeshore\n@ Lakeside Community Center\n9841 Vine Street\, Lakeside\, CA 92040 \nDrive-thru option preferred\nor walk up for services\nFor more information\, go here.
URL:https://maacproject.org/event/food-bank-2nd-tuesday-of-the-month-19/
LOCATION:Lakeside Community Center (Villa Lakeshore Temp Location)\, 9841 Vine Street\, Lakeside\, CA\, 92040\, United States
CATEGORIES:Food Bank
ATTACH;FMTTYPE=image/jpeg:https://maacproject.org/wp-content/uploads/2024/06/IMG_5901-scaled-e1713278304459.jpg
END:VEVENT
BEGIN:VEVENT
DTSTART;TZID=America/Los_Angeles:20251002T090000
DTEND;TZID=America/Los_Angeles:20251002T090000
DTSTAMP:20260423T232755
CREATED:20251104T205342Z
LAST-MODIFIED:20251104T205342Z
UID:5520-1759395600-1759395600@maacproject.org
SUMMARY:Food Bank – 1st Thursday of the Month
DESCRIPTION:9AM Mercado \n2001 Newton Avenue\, San Diego\, CA 92113 \nWalk up for services only \nFor more information\, go here.
URL:https://maacproject.org/event/food-bank-1st-thursday-of-the-month-19/
LOCATION:Mercado Apartments\, 2001 Newton Avenue\, San Diego\, CA\, 92113\, United States
CATEGORIES:Food Bank
ATTACH;FMTTYPE=image/jpeg:https://maacproject.org/wp-content/uploads/2024/06/IMG_5901-scaled-e1713278304459.jpg
END:VEVENT
BEGIN:VEVENT
DTSTART;TZID=America/Los_Angeles:20250926T090000
DTEND;TZID=America/Los_Angeles:20251024T090000
DTSTAMP:20260423T232755
CREATED:20251104T204539Z
LAST-MODIFIED:20251104T204539Z
UID:5516-1758877200-1761296400@maacproject.org
SUMMARY:Food Bank – 4th Friday of the Month
DESCRIPTION:9AM Senior Food Program\n@ MAAC Community Center\n1387 Third Avenue\, Chula Vista\, CA 91911 \nDrive-thru pick-up only \nFor more information\, go here
URL:https://maacproject.org/event/food-bank-4th-friday-of-the-month-18/
LOCATION:Senior Food Program @ MAAC Community Center\, 1387 Third Avenue\, Chula Vista\, CA\, 91911\, United States
CATEGORIES:Food Bank
ATTACH;FMTTYPE=image/jpeg:https://maacproject.org/wp-content/uploads/2024/06/IMG_9426-scaled.jpg
END:VEVENT
BEGIN:VEVENT
DTSTART;TZID=America/Los_Angeles:20250918T083000
DTEND;TZID=America/Los_Angeles:20250918T083000
DTSTAMP:20260423T232755
CREATED:20251104T210454Z
LAST-MODIFIED:20251104T210454Z
UID:5529-1758184200-1758184200@maacproject.org
SUMMARY:Food Bank – 3rd Thursday of the Month
DESCRIPTION:8:30AM \nMAAC Community Center\n1355 Third Avenue\, Chula Vista\, CA 91911 \nDrive-thru option preferred\nor walk up for services \nFor more information\, go here.
URL:https://maacproject.org/event/food-bank-3rd-thursday-of-the-month-19/
LOCATION:MAAC Community Center\, 1387 Third Avenue\, Chula Vista\, 91911\, United States
CATEGORIES:Food Bank
ATTACH;FMTTYPE=image/jpeg:https://maacproject.org/wp-content/uploads/2024/06/IMG_5901-scaled-e1713278304459.jpg
END:VEVENT
BEGIN:VEVENT
DTSTART;TZID=America/Los_Angeles:20250918T083000
DTEND;TZID=America/Los_Angeles:20250918T083000
DTSTAMP:20260423T232755
CREATED:20251104T204153Z
LAST-MODIFIED:20251104T204153Z
UID:5513-1758184200-1758184200@maacproject.org
SUMMARY:Food Bank – 3rd Thursday of the Month
DESCRIPTION:8:30AM \nMAAC Community Center\n1355 Third Avenue\, Chula Vista\, CA 91911 \nDrive-thru option preferred\nor walk up for services \nFor more information\, go here.
URL:https://maacproject.org/event/food-bank-3rd-thursday-of-the-month-18/
LOCATION:MAAC Community Center\, 1387 Third Avenue\, Chula Vista\, 91911\, United States
CATEGORIES:Food Bank
ATTACH;FMTTYPE=image/jpeg:https://maacproject.org/wp-content/uploads/2024/06/IMG_9426-scaled.jpg
END:VEVENT
BEGIN:VEVENT
DTSTART;TZID=America/Los_Angeles:20250916T000000
DTEND;TZID=America/Los_Angeles:20250916T000000
DTSTAMP:20260423T232755
CREATED:20251104T203427Z
LAST-MODIFIED:20251104T203427Z
UID:5509-1757980800-1757980800@maacproject.org
SUMMARY:Food Bank – 3rd Tuesday of the Month
DESCRIPTION:10AM San Martin de Porres\n@ Grace Covenant Church\n9140 Akard Street\, Spring Valley\, CA 91977\nDrive-thru option preferred\nor walk up for services \n1:30PM Laurel Tree\n1307 Laurel Tree Lane\, Carlsbad\, CA 92011\nWalk up for services only
URL:https://maacproject.org/event/food-bank-3rd-tuesday-of-the-month-18/
LOCATION:CA
CATEGORIES:Food Bank
ATTACH;FMTTYPE=image/jpeg:https://maacproject.org/wp-content/uploads/2024/06/IMG_9426-scaled.jpg
END:VEVENT
BEGIN:VEVENT
DTSTART;TZID=America/Los_Angeles:20250909T090000
DTEND;TZID=America/Los_Angeles:20250909T090000
DTSTAMP:20260423T232755
CREATED:20251104T203052Z
LAST-MODIFIED:20251104T203052Z
UID:5507-1757408400-1757408400@maacproject.org
SUMMARY:Food Bank – 2nd Tuesday of the Month
DESCRIPTION:9AM Villa Lakeshore\n@ Lakeside Community Center\n9841 Vine Street\, Lakeside\, CA 92040 \nDrive-thru option preferred\nor walk up for services\nFor more information\, go here.
URL:https://maacproject.org/event/food-bank-2nd-tuesday-of-the-month-18/
LOCATION:Lakeside Community Center (Villa Lakeshore Temp Location)\, 9841 Vine Street\, Lakeside\, CA\, 92040\, United States
CATEGORIES:Food Bank
ATTACH;FMTTYPE=image/jpeg:https://maacproject.org/wp-content/uploads/2024/06/IMG_9426-scaled.jpg
END:VEVENT
BEGIN:VEVENT
DTSTART;TZID=America/Los_Angeles:20250904T090000
DTEND;TZID=America/Los_Angeles:20250904T090000
DTSTAMP:20260423T232755
CREATED:20251104T202813Z
LAST-MODIFIED:20251104T202813Z
UID:5505-1756976400-1756976400@maacproject.org
SUMMARY:Food Bank – 1st Thursday of the Month
DESCRIPTION:9AM Mercado \n2001 Newton Avenue\, San Diego\, CA 92113 \nWalk up for services only \nFor more information\, go here.
URL:https://maacproject.org/event/food-bank-1st-thursday-of-the-month-18/
LOCATION:Mercado Apartments\, 2001 Newton Avenue\, San Diego\, CA\, 92113\, United States
CATEGORIES:Food Bank
ATTACH;FMTTYPE=image/jpeg:https://maacproject.org/wp-content/uploads/2024/06/IMG_9426-scaled.jpg
END:VEVENT
BEGIN:VEVENT
DTSTART;TZID=America/Los_Angeles:20250822T090000
DTEND;TZID=America/Los_Angeles:20250822T090000
DTSTAMP:20260423T232755
CREATED:20250116T155247Z
LAST-MODIFIED:20250116T155247Z
UID:4227-1755853200-1755853200@maacproject.org
SUMMARY:Food Bank – 4th Friday of the Month
DESCRIPTION:9AM Senior Food Program\n@ MAAC Community Center\n1387 Third Avenue\, Chula Vista\, CA 91911 \nDrive-thru pick-up only \nFor more information\, go here
URL:https://maacproject.org/event/food-bank-4th-friday-of-the-month-17/
LOCATION:Senior Food Program @ MAAC Community Center\, 1387 Third Avenue\, Chula Vista\, CA\, 91911\, United States
CATEGORIES:Food Bank
ATTACH;FMTTYPE=image/jpeg:https://maacproject.org/wp-content/uploads/2024/06/IMG_5901-scaled-e1713278304459.jpg
END:VEVENT
BEGIN:VEVENT
DTSTART;TZID=America/Los_Angeles:20250821T083000
DTEND;TZID=America/Los_Angeles:20250821T083000
DTSTAMP:20260423T232755
CREATED:20250116T155001Z
LAST-MODIFIED:20250116T155001Z
UID:4225-1755765000-1755765000@maacproject.org
SUMMARY:Food Bank – 3rd Thursday of the Month
DESCRIPTION:8:30AM \nMAAC Community Center\n1355 Third Avenue\, Chula Vista\, CA 91911 \nDrive-thru option preferred\nor walk up for services \nFor more information\, go here.
URL:https://maacproject.org/event/food-bank-3rd-thursday-of-the-month-17/
LOCATION:MAAC Community Center\, 1387 Third Avenue\, Chula Vista\, 91911\, United States
CATEGORIES:Food Bank
ATTACH;FMTTYPE=image/jpeg:https://maacproject.org/wp-content/uploads/2024/06/IMG_5901-scaled-e1713278304459.jpg
END:VEVENT
BEGIN:VEVENT
DTSTART;TZID=America/Los_Angeles:20250819T000000
DTEND;TZID=America/Los_Angeles:20250819T000000
DTSTAMP:20260423T232755
CREATED:20250116T154559Z
LAST-MODIFIED:20250116T154559Z
UID:4221-1755561600-1755561600@maacproject.org
SUMMARY:Food Bank – 3rd Tuesday of the Month
DESCRIPTION:10AM San Martin de Porres\n@ Grace Covenant Church\n9140 Akard Street\, Spring Valley\, CA 91977\nDrive-thru option preferred\nor walk up for services \n1:30PM Laurel Tree\n1307 Laurel Tree Lane\, Carlsbad\, CA 92011\nWalk up for services only
URL:https://maacproject.org/event/food-bank-3rd-tuesday-of-the-month-17/
LOCATION:CA
CATEGORIES:Food Bank
ATTACH;FMTTYPE=image/jpeg:https://maacproject.org/wp-content/uploads/2024/06/IMG_5901-scaled-e1713278304459.jpg
END:VEVENT
BEGIN:VEVENT
DTSTART;TZID=America/Los_Angeles:20250812T090000
DTEND;TZID=America/Los_Angeles:20250812T090000
DTSTAMP:20260423T232755
CREATED:20250116T154359Z
LAST-MODIFIED:20250116T154359Z
UID:4219-1754989200-1754989200@maacproject.org
SUMMARY:Food Bank – 2nd Tuesday of the Month
DESCRIPTION:9AM Villa Lakeshore\n@ Lakeside Community Center\n9841 Vine Street\, Lakeside\, CA 92040\nDrive-thru option preferred\nor walk up for services\nFor more information\, go here.
URL:https://maacproject.org/event/food-bank-2nd-tuesday-of-the-month-17/
LOCATION:Lakeside Community Center (Villa Lakeshore Temp Location)\, 9841 Vine Street\, Lakeside\, CA\, 92040\, United States
CATEGORIES:Food Bank
ATTACH;FMTTYPE=image/jpeg:https://maacproject.org/wp-content/uploads/2024/06/IMG_5901-scaled-e1713278304459.jpg
END:VEVENT
BEGIN:VEVENT
DTSTART;TZID=America/Los_Angeles:20250807T090000
DTEND;TZID=America/Los_Angeles:20250807T090000
DTSTAMP:20260423T232755
CREATED:20250116T154158Z
LAST-MODIFIED:20250116T154158Z
UID:4217-1754557200-1754557200@maacproject.org
SUMMARY:Food Bank – 1st Thursday of the Month
DESCRIPTION:9AM Mercado \n2001 Newton Avenue\, San Diego\, CA 92113 \nWalk up for services only \nFor more information\, go here.
URL:https://maacproject.org/event/food-bank-1st-thursday-of-the-month-17/
LOCATION:Mercado Apartments\, 2001 Newton Avenue\, San Diego\, CA\, 92113\, United States
CATEGORIES:Food Bank
ATTACH;FMTTYPE=image/jpeg:https://maacproject.org/wp-content/uploads/2024/06/IMG_5901-scaled-e1713278304459.jpg
END:VEVENT
BEGIN:VEVENT
DTSTART;TZID=America/Los_Angeles:20250725T090000
DTEND;TZID=America/Los_Angeles:20250725T090000
DTSTAMP:20260423T232755
CREATED:20250115T143855Z
LAST-MODIFIED:20250115T143855Z
UID:4213-1753434000-1753434000@maacproject.org
SUMMARY:Food Bank – 4th Friday of the Month
DESCRIPTION:9AM Senior Food Program\n@ MAAC Community Center\n1387 Third Avenue\, Chula Vista\, CA 91911 \nDrive-thru pick-up only \nFor more information\, go here
URL:https://maacproject.org/event/food-bank-4th-friday-of-the-month-16/
LOCATION:Senior Food Program @ MAAC Community Center\, 1387 Third Avenue\, Chula Vista\, CA\, 91911\, United States
CATEGORIES:Food Bank
ATTACH;FMTTYPE=image/jpeg:https://maacproject.org/wp-content/uploads/2024/06/IMG_5901-scaled-e1713278304459.jpg
END:VEVENT
BEGIN:VEVENT
DTSTART;TZID=America/Los_Angeles:20250717T083000
DTEND;TZID=America/Los_Angeles:20250717T083000
DTSTAMP:20260423T232755
CREATED:20250115T143641Z
LAST-MODIFIED:20250115T143641Z
UID:4211-1752741000-1752741000@maacproject.org
SUMMARY:Food Bank – 3rd Thursday of the Month
DESCRIPTION:8:30AM \nMAAC Community Center\n1355 Third Avenue\, Chula Vista\, CA 91911 \nDrive-thru option preferred\nor walk up for services \nFor more information\, go here.
URL:https://maacproject.org/event/food-bank-3rd-thursday-of-the-month-16/
LOCATION:MAAC Community Center\, 1387 Third Avenue\, Chula Vista\, 91911\, United States
CATEGORIES:Food Bank
ATTACH;FMTTYPE=image/jpeg:https://maacproject.org/wp-content/uploads/2024/06/IMG_5901-scaled-e1713278304459.jpg
END:VEVENT
BEGIN:VEVENT
DTSTART;TZID=America/Los_Angeles:20250715T090000
DTEND;TZID=America/Los_Angeles:20250715T090000
DTSTAMP:20260423T232755
CREATED:20250115T143227Z
LAST-MODIFIED:20250115T143227Z
UID:4207-1752570000-1752570000@maacproject.org
SUMMARY:Food Bank – 3rd Tuesday of the Month
DESCRIPTION:10AM San Martin de Porres\n@ Grace Covenant Church\n9140 Akard Street\, Spring Valley\, CA 91977\nDrive-thru option preferred\nor walk up for services \n1:30PM Laurel Tree\n1307 Laurel Tree Lane\, Carlsbad\, CA 92011\nWalk up for services only
URL:https://maacproject.org/event/food-bank-3rd-tuesday-of-the-month-16/
LOCATION:CA
CATEGORIES:Food Bank
ATTACH;FMTTYPE=image/jpeg:https://maacproject.org/wp-content/uploads/2024/06/IMG_5901-scaled-e1713278304459.jpg
END:VEVENT
BEGIN:VEVENT
DTSTART;TZID=America/Los_Angeles:20250708T090000
DTEND;TZID=America/Los_Angeles:20250708T090000
DTSTAMP:20260423T232755
CREATED:20250115T142923Z
LAST-MODIFIED:20250115T142923Z
UID:4205-1751965200-1751965200@maacproject.org
SUMMARY:Food Bank – 2nd Tuesday of the Month
DESCRIPTION:9AM Villa Lakeshore\n@ Lakeside Community Center\n9841 Vine Street\, Lakeside\, CA 92040\nDrive-thru option preferred\nor walk up for services\nFor more information\, go here.
URL:https://maacproject.org/event/food-bank-2nd-tuesday-of-the-month-16/
LOCATION:Lakeside Community Center (Villa Lakeshore Temp Location)\, 9841 Vine Street\, Lakeside\, CA\, 92040\, United States
CATEGORIES:Food Bank
ATTACH;FMTTYPE=image/jpeg:https://maacproject.org/wp-content/uploads/2024/06/IMG_5901-scaled-e1713278304459.jpg
END:VEVENT
BEGIN:VEVENT
DTSTART;TZID=America/Los_Angeles:20250703T090000
DTEND;TZID=America/Los_Angeles:20250703T090000
DTSTAMP:20260423T232755
CREATED:20250115T142547Z
LAST-MODIFIED:20250115T142547Z
UID:4203-1751533200-1751533200@maacproject.org
SUMMARY:Food Bank – 1st Thursday of the Month
DESCRIPTION:9AM Mercado \n2001 Newton Avenue\, San Diego\, CA 92113 \nWalk up for services only \nFor more information\, go here.
URL:https://maacproject.org/event/food-bank-1st-thursday-of-the-month-16/
LOCATION:Mercado Apartments\, 2001 Newton Avenue\, San Diego\, CA\, 92113\, United States
CATEGORIES:Food Bank
ATTACH;FMTTYPE=image/jpeg:https://maacproject.org/wp-content/uploads/2024/06/IMG_5901-scaled-e1713278304459.jpg
END:VEVENT
BEGIN:VEVENT
DTSTART;TZID=America/Los_Angeles:20250627T090000
DTEND;TZID=America/Los_Angeles:20250627T090000
DTSTAMP:20260423T232755
CREATED:20250114T151058Z
LAST-MODIFIED:20250115T145441Z
UID:4199-1751014800-1751014800@maacproject.org
SUMMARY:Food Bank – 4th Friday of the Month
DESCRIPTION:9AM Senior Food Program\n@ MAAC Community Center\n1387 Third Avenue\, Chula Vista\, CA 91911 \nDrive-thru pick-up only \nFor more information\, go here
URL:https://maacproject.org/event/food-bank-4th-friday-of-the-month-15/
LOCATION:Senior Food Program @ MAAC Community Center\, 1387 Third Avenue\, Chula Vista\, CA\, 91911\, United States
CATEGORIES:Food Bank
END:VEVENT
BEGIN:VEVENT
DTSTART;TZID=America/Los_Angeles:20250619T083000
DTEND;TZID=America/Los_Angeles:20250619T083000
DTSTAMP:20260423T232755
CREATED:20250114T150353Z
LAST-MODIFIED:20250114T150353Z
UID:4193-1750321800-1750321800@maacproject.org
SUMMARY:Food Bank – 3rd Thursday of the Month
DESCRIPTION:8:30AM \nMAAC Community Center\n1355 Third Avenue\, Chula Vista\, CA 91911 \nDrive-thru option preferred\nor walk up for services \nFor more information\, go here.
URL:https://maacproject.org/event/food-bank-3rd-thursday-of-the-month-15/
LOCATION:MAAC Community Center\, 1387 Third Avenue\, Chula Vista\, 91911\, United States
CATEGORIES:Food Bank
ATTACH;FMTTYPE=image/jpeg:https://maacproject.org/wp-content/uploads/2024/06/IMG_5901-scaled-e1713278304459.jpg
END:VEVENT
BEGIN:VEVENT
DTSTART;TZID=America/Los_Angeles:20250617T000000
DTEND;TZID=America/Los_Angeles:20250617T000000
DTSTAMP:20260423T232755
CREATED:20250114T150648Z
LAST-MODIFIED:20250114T150648Z
UID:4195-1750118400-1750118400@maacproject.org
SUMMARY:Food Bank – 3rd Tuesday of the Month
DESCRIPTION:10AM San Martin de Porres\n@ Grace Covenant Church\n9140 Akard Street\, Spring Valley\, CA 91977\nDrive-thru option preferred\nor walk up for services \n1:30PM Laurel Tree\n1307 Laurel Tree Lane\, Carlsbad\, CA 92011\nWalk up for services only
URL:https://maacproject.org/event/food-bank-3rd-tuesday-of-the-month-15/
LOCATION:CA
CATEGORIES:Food Bank
ATTACH;FMTTYPE=image/jpeg:https://maacproject.org/wp-content/uploads/2024/06/IMG_5901-scaled-e1713278304459.jpg
END:VEVENT
BEGIN:VEVENT
DTSTART;TZID=America/Los_Angeles:20250610T090000
DTEND;TZID=America/Los_Angeles:20250610T090000
DTSTAMP:20260423T232755
CREATED:20250114T150134Z
LAST-MODIFIED:20250114T150134Z
UID:4191-1749546000-1749546000@maacproject.org
SUMMARY:Food Bank – 2nd Tuesday of the Month
DESCRIPTION:9AM Villa Lakeshore\n@ Lakeside Community Center\n9841 Vine Street\, Lakeside\, CA 92040\nDrive-thru option preferred\nor walk up for services\nFor more information\, go here.
URL:https://maacproject.org/event/food-bank-2nd-tuesday-of-the-month-15/
LOCATION:Lakeside Community Center (Villa Lakeshore Temp Location)\, 9841 Vine Street\, Lakeside\, CA\, 92040\, United States
CATEGORIES:Food Bank
ATTACH;FMTTYPE=image/jpeg:https://maacproject.org/wp-content/uploads/2024/06/IMG_5901-scaled-e1713278304459.jpg
END:VEVENT
BEGIN:VEVENT
DTSTART;TZID=America/Los_Angeles:20250605T090000
DTEND;TZID=America/Los_Angeles:20250605T090000
DTSTAMP:20260423T232755
CREATED:20250114T145601Z
LAST-MODIFIED:20250114T145601Z
UID:4187-1749114000-1749114000@maacproject.org
SUMMARY:Food Bank – 1st Thursday of the Month
DESCRIPTION:9AM Mercado \n2001 Newton Avenue\, San Diego\, CA 92113 \nWalk up for services only \nFor more information\, go here.
URL:https://maacproject.org/event/food-bank-1st-thursday-of-the-month-15/
LOCATION:Mercado Apartments\, 2001 Newton Avenue\, San Diego\, CA\, 92113\, United States
CATEGORIES:Food Bank
ATTACH;FMTTYPE=image/jpeg:https://maacproject.org/wp-content/uploads/2024/06/IMG_5901-scaled-e1713278304459.jpg
END:VEVENT
BEGIN:VEVENT
DTSTART;TZID=America/Los_Angeles:20250523T090000
DTEND;TZID=America/Los_Angeles:20250523T090000
DTSTAMP:20260423T232755
CREATED:20250103T194804Z
LAST-MODIFIED:20250103T194804Z
UID:4172-1747990800-1747990800@maacproject.org
SUMMARY:Food Bank – 4th Friday of the Month
DESCRIPTION:9AM Senior Food Program\n@ MAAC Community Center\n1387 Third Avenue\, Chula Vista\, CA 91911 \nDrive-thru pick-up only \nFor more information\, go here
URL:https://maacproject.org/event/food-bank-4th-friday-of-the-month-14/
LOCATION:Senior Food Program @ MAAC Community Center\, 1387 Third Avenue\, Chula Vista\, CA\, 91911\, United States
CATEGORIES:Food Bank
ATTACH;FMTTYPE=image/jpeg:https://maacproject.org/wp-content/uploads/2024/06/IMG_5901-scaled-e1713278304459.jpg
END:VEVENT
BEGIN:VEVENT
DTSTART;TZID=America/Los_Angeles:20250520T000000
DTEND;TZID=America/Los_Angeles:20250520T000000
DTSTAMP:20260423T232755
CREATED:20250103T193246Z
LAST-MODIFIED:20250103T193307Z
UID:4165-1747699200-1747699200@maacproject.org
SUMMARY:Food Bank – 3rd Tuesday of the Month
DESCRIPTION:10AM San Martin de Porres\n@ Grace Covenant Church\n9140 Akard Street\, Spring Valley\, CA 91977\nDrive-thru option preferred\nor walk up for services \n1:30PM Laurel Tree\n1307 Laurel Tree Lane\, Carlsbad\, CA 92011\nWalk up for services only
URL:https://maacproject.org/event/food-bank-3rd-tuesday-of-the-month-14/
LOCATION:CA
CATEGORIES:Food Bank
ATTACH;FMTTYPE=image/jpeg:https://maacproject.org/wp-content/uploads/2024/06/IMG_5901-scaled-e1713278304459.jpg
END:VEVENT
END:VCALENDAR