BEGIN:VCALENDAR
VERSION:2.0
PRODID:-//MAAC - ECPv6.15.20//NONSGML v1.0//EN
CALSCALE:GREGORIAN
METHOD:PUBLISH
X-ORIGINAL-URL:https://maacproject.org
X-WR-CALDESC:Events for MAAC
REFRESH-INTERVAL;VALUE=DURATION:PT1H
X-Robots-Tag:noindex
X-PUBLISHED-TTL:PT1H
BEGIN:VTIMEZONE
TZID:America/Los_Angeles
BEGIN:DAYLIGHT
TZOFFSETFROM:-0800
TZOFFSETTO:-0700
TZNAME:PDT
DTSTART:20250309T100000
END:DAYLIGHT
BEGIN:STANDARD
TZOFFSETFROM:-0700
TZOFFSETTO:-0800
TZNAME:PST
DTSTART:20251102T090000
END:STANDARD
BEGIN:DAYLIGHT
TZOFFSETFROM:-0800
TZOFFSETTO:-0700
TZNAME:PDT
DTSTART:20260308T100000
END:DAYLIGHT
BEGIN:STANDARD
TZOFFSETFROM:-0700
TZOFFSETTO:-0800
TZNAME:PST
DTSTART:20261101T090000
END:STANDARD
BEGIN:DAYLIGHT
TZOFFSETFROM:-0800
TZOFFSETTO:-0700
TZNAME:PDT
DTSTART:20270314T100000
END:DAYLIGHT
BEGIN:STANDARD
TZOFFSETFROM:-0700
TZOFFSETTO:-0800
TZNAME:PST
DTSTART:20271107T090000
END:STANDARD
END:VTIMEZONE
BEGIN:VEVENT
DTSTART;TZID=America/Los_Angeles:20260414T090000
DTEND;TZID=America/Los_Angeles:20260414T090000
DTSTAMP:20260424T054326
CREATED:20260203T152809Z
LAST-MODIFIED:20260203T152809Z
UID:5972-1776157200-1776157200@maacproject.org
SUMMARY:Food Bank – 2nd Tuesday of the Month
DESCRIPTION:9AM Villa Lakeshore\n@ Lakeside Community Center\n9841 Vine Street\, Lakeside\, CA 92040 \nDrive-thru option preferred\nor walk up for services\nFor more information\, go here.
URL:https://maacproject.org/event/food-bank-2nd-tuesday-of-the-month-25/
LOCATION:Lakeside Community Center (Villa Lakeshore Temp Location)\, 9841 Vine Street\, Lakeside\, CA\, 92040\, United States
CATEGORIES:Food Bank
ATTACH;FMTTYPE=image/jpeg:https://maacproject.org/wp-content/uploads/2024/06/IMG_5901-scaled-e1713278304459.jpg
END:VEVENT
BEGIN:VEVENT
DTSTART;TZID=America/Los_Angeles:20260416T083000
DTEND;TZID=America/Los_Angeles:20260416T083000
DTSTAMP:20260424T054326
CREATED:20260203T153148Z
LAST-MODIFIED:20260203T153148Z
UID:5974-1776328200-1776328200@maacproject.org
SUMMARY:Food Bank – 3rd Thursday of the Month
DESCRIPTION:8:30AM MAAC Community Center\n1385 Third Avenue\, Chula Vista\, CA 91911\nDrive-thru option preferred\nor walk up for services: If walking up\, please bring a cart & reusable bag. \nFor more information\, click here.
URL:https://maacproject.org/event/food-bank-3rd-thursday-of-the-month-22/
LOCATION:MAAC Community Center\, 1387 Third Avenue\, Chula Vista\, 91911\, United States
CATEGORIES:Food Bank
ATTACH;FMTTYPE=image/jpeg:https://maacproject.org/wp-content/uploads/2024/06/IMG_5901-scaled-e1713278304459.jpg
END:VEVENT
BEGIN:VEVENT
DTSTART;TZID=America/Los_Angeles:20260424T090000
DTEND;TZID=America/Los_Angeles:20260424T090000
DTSTAMP:20260424T054326
CREATED:20260203T153349Z
LAST-MODIFIED:20260203T153349Z
UID:5975-1777021200-1777021200@maacproject.org
SUMMARY:Food Bank – 4th Friday of the Month
DESCRIPTION:9AM Senior Food Program\n@ MAAC Community Center\n1387 Third Avenue\, Chula Vista\, CA 91911 \nDrive-thru pick-up only \nFor more information\, go here
URL:https://maacproject.org/event/food-bank-4th-friday-of-the-month-23/
LOCATION:Senior Food Program @ MAAC Community Center\, 1387 Third Avenue\, Chula Vista\, CA\, 91911\, United States
CATEGORIES:Food Bank
ATTACH;FMTTYPE=image/jpeg:https://maacproject.org/wp-content/uploads/2024/06/IMG_5901-scaled-e1713278304459.jpg
END:VEVENT
BEGIN:VEVENT
DTSTART;TZID=America/Los_Angeles:20260507T090000
DTEND;TZID=America/Los_Angeles:20260507T090000
DTSTAMP:20260424T054326
CREATED:20260408T191132Z
LAST-MODIFIED:20260408T210120Z
UID:6267-1778144400-1778144400@maacproject.org
SUMMARY:Food Bank – 1st Thursday of the Month
DESCRIPTION:9AM Mercado \n2001 Newton Avenue\, San Diego\, CA 92113 \nWalk up for services only \nFor more information\, go here.
URL:https://maacproject.org/event/food-bank-1st-thursday-of-the-month-25/
LOCATION:Mercado Apartments\, 2001 Newton Avenue\, San Diego\, CA\, 92113\, United States
CATEGORIES:Food Bank
ATTACH;FMTTYPE=image/jpeg:https://maacproject.org/wp-content/uploads/2024/06/IMG_5901-scaled-e1713278304459.jpg
END:VEVENT
BEGIN:VEVENT
DTSTART;TZID=America/Los_Angeles:20260512T090000
DTEND;TZID=America/Los_Angeles:20260512T090000
DTSTAMP:20260424T054326
CREATED:20260408T191405Z
LAST-MODIFIED:20260408T210209Z
UID:6269-1778576400-1778576400@maacproject.org
SUMMARY:Food Bank – 2nd Tuesday of the Month
DESCRIPTION:9AM Villa Lakeshore\n@ Lakeside Community Center\n9841 Vine Street\, Lakeside\, CA 92040 \nDrive-thru option preferred\nor walk up for services\nFor more information\, go here.
URL:https://maacproject.org/event/food-bank-2nd-tuesday-of-the-month-26/
LOCATION:Lakeside Community Center (Villa Lakeshore Temp Location)\, 9841 Vine Street\, Lakeside\, CA\, 92040\, United States
CATEGORIES:Food Bank
ATTACH;FMTTYPE=image/jpeg:https://maacproject.org/wp-content/uploads/2024/06/IMG_5901-scaled-e1713278304459.jpg
END:VEVENT
BEGIN:VEVENT
DTSTART;TZID=America/Los_Angeles:20260521T083000
DTEND;TZID=America/Los_Angeles:20260521T083000
DTSTAMP:20260424T054326
CREATED:20260408T192056Z
LAST-MODIFIED:20260408T210539Z
UID:6273-1779352200-1779352200@maacproject.org
SUMMARY:Food Bank – 3rd Thursday of the Month
DESCRIPTION:8:30AM MAAC Community Center\n1385 Third Avenue\, Chula Vista\, CA 91911\nDrive-thru option preferred\nor walk up for services: If walking up\, please bring a cart & reusable bag. \nFor more information\, click here.
URL:https://maacproject.org/event/food-bank-3rd-thursday-of-the-month-23/
LOCATION:MAAC Community Center\, 1387 Third Avenue\, Chula Vista\, 91911\, United States
CATEGORIES:Food Bank
ATTACH;FMTTYPE=image/jpeg:https://maacproject.org/wp-content/uploads/2024/06/IMG_5901-scaled-e1713278304459.jpg
END:VEVENT
BEGIN:VEVENT
DTSTART;TZID=America/Los_Angeles:20260522T090000
DTEND;TZID=America/Los_Angeles:20260522T090000
DTSTAMP:20260424T054326
CREATED:20260408T192341Z
LAST-MODIFIED:20260408T210631Z
UID:6275-1779440400-1779440400@maacproject.org
SUMMARY:Food Bank – 4th Friday of the Month
DESCRIPTION:9AM Senior Food Program\n@ MAAC Community Center\n1387 Third Avenue\, Chula Vista\, CA 91911 \nDrive-thru pick-up only \nFor more information\, go here
URL:https://maacproject.org/event/food-bank-4th-friday-of-the-month-24/
LOCATION:Senior Food Program @ MAAC Community Center\, 1387 Third Avenue\, Chula Vista\, CA\, 91911\, United States
CATEGORIES:Food Bank
ATTACH;FMTTYPE=image/jpeg:https://maacproject.org/wp-content/uploads/2024/06/IMG_5901-scaled-e1713278304459.jpg
END:VEVENT
BEGIN:VEVENT
DTSTART;TZID=America/Los_Angeles:20260604T090000
DTEND;TZID=America/Los_Angeles:20260604T090000
DTSTAMP:20260424T054326
CREATED:20260408T192950Z
LAST-MODIFIED:20260408T192950Z
UID:6279-1780563600-1780563600@maacproject.org
SUMMARY:Food Bank – 1st Thursday of the Month
DESCRIPTION:9AM Mercado \n2001 Newton Avenue\, San Diego\, CA 92113 \nWalk up for services only \nFor more information\, go here.
URL:https://maacproject.org/event/food-bank-1st-thursday-of-the-month-26/
LOCATION:Mercado Apartments\, 2001 Newton Avenue\, San Diego\, CA\, 92113\, United States
CATEGORIES:Food Bank
ATTACH;FMTTYPE=image/jpeg:https://maacproject.org/wp-content/uploads/2024/06/IMG_5901-scaled-e1713278304459.jpg
END:VEVENT
BEGIN:VEVENT
DTSTART;TZID=America/Los_Angeles:20260609T090000
DTEND;TZID=America/Los_Angeles:20260609T090000
DTSTAMP:20260424T054326
CREATED:20260408T193157Z
LAST-MODIFIED:20260408T193158Z
UID:6281-1780995600-1780995600@maacproject.org
SUMMARY:Food Bank – 2nd Tuesday of the Month
DESCRIPTION:9AM Villa Lakeshore\n@ Lakeside Community Center\n9841 Vine Street\, Lakeside\, CA 92040 \nDrive-thru option preferred\nor walk up for services\nFor more information\, go here.
URL:https://maacproject.org/event/food-bank-2nd-tuesday-of-the-month-27/
LOCATION:Lakeside Community Center (Villa Lakeshore Temp Location)\, 9841 Vine Street\, Lakeside\, CA\, 92040\, United States
CATEGORIES:Food Bank
ATTACH;FMTTYPE=image/jpeg:https://maacproject.org/wp-content/uploads/2024/06/IMG_5901-scaled-e1713278304459.jpg
END:VEVENT
BEGIN:VEVENT
DTSTART;TZID=America/Los_Angeles:20260617T160000
DTEND;TZID=America/Los_Angeles:20260617T180000
DTSTAMP:20260424T054326
CREATED:20260408T193410Z
LAST-MODIFIED:20260408T193410Z
UID:6283-1781712000-1781719200@maacproject.org
SUMMARY:Diaper Distribution – 3rd Wednesday of the Month
DESCRIPTION:DIAPER DISTRIBUTION /DISTRIBUCIÓN DE PAÑALES \nWALK up for services / Servicios en persona\nEvery 3rd Wednesday of the Month / Cada tercer miércoles \nFor more info\, go here.
URL:https://maacproject.org/event/diaper-distribution-3rd-wednesday-of-the-month-6/
LOCATION:MAAC North Campus\, 956 Vale Terrace Drive\, Vista\, CA\, 92084\, United States
CATEGORIES:Food Bank
ATTACH;FMTTYPE=image/jpeg:https://maacproject.org/wp-content/uploads/2024/06/IMG_5901-scaled-e1713278304459.jpg
END:VEVENT
BEGIN:VEVENT
DTSTART;TZID=America/Los_Angeles:20260618T083000
DTEND;TZID=America/Los_Angeles:20260618T083000
DTSTAMP:20260424T054326
CREATED:20260408T193620Z
LAST-MODIFIED:20260408T193620Z
UID:6285-1781771400-1781771400@maacproject.org
SUMMARY:Food Bank – 3rd Thursday of the Month
DESCRIPTION:8:30AM MAAC Community Center\n1385 Third Avenue\, Chula Vista\, CA 91911\nDrive-thru option preferred\nor walk up for services: If walking up\, please bring a cart & reusable bag. \nFor more information\, click here.
URL:https://maacproject.org/event/food-bank-3rd-thursday-of-the-month-24/
LOCATION:MAAC Community Center\, 1387 Third Avenue\, Chula Vista\, 91911\, United States
CATEGORIES:Food Bank
ATTACH;FMTTYPE=image/jpeg:https://maacproject.org/wp-content/uploads/2024/06/IMG_5901-scaled-e1713278304459.jpg
END:VEVENT
BEGIN:VEVENT
DTSTART;TZID=America/Los_Angeles:20260626T090000
DTEND;TZID=America/Los_Angeles:20260626T090000
DTSTAMP:20260424T054326
CREATED:20260408T193807Z
LAST-MODIFIED:20260408T193807Z
UID:6287-1782464400-1782464400@maacproject.org
SUMMARY:Food Bank – 4th Friday of the Month
DESCRIPTION:9AM Senior Food Program\n@ MAAC Community Center\n1387 Third Avenue\, Chula Vista\, CA 91911 \nDrive-thru pick-up only \nFor more information\, go here
URL:https://maacproject.org/event/food-bank-4th-friday-of-the-month-25/
LOCATION:Senior Food Program @ MAAC Community Center\, 1387 Third Avenue\, Chula Vista\, CA\, 91911\, United States
CATEGORIES:Food Bank
ATTACH;FMTTYPE=image/jpeg:https://maacproject.org/wp-content/uploads/2024/06/IMG_5901-scaled-e1713278304459.jpg
END:VEVENT
END:VCALENDAR