BEGIN:VCALENDAR
VERSION:2.0
PRODID:-//MAAC - ECPv6.15.20//NONSGML v1.0//EN
CALSCALE:GREGORIAN
METHOD:PUBLISH
X-WR-CALNAME:MAAC
X-ORIGINAL-URL:https://maacproject.org
X-WR-CALDESC:Events for MAAC
REFRESH-INTERVAL;VALUE=DURATION:PT1H
X-Robots-Tag:noindex
X-PUBLISHED-TTL:PT1H
BEGIN:VTIMEZONE
TZID:America/Los_Angeles
BEGIN:DAYLIGHT
TZOFFSETFROM:-0800
TZOFFSETTO:-0700
TZNAME:PDT
DTSTART:20250309T100000
END:DAYLIGHT
BEGIN:STANDARD
TZOFFSETFROM:-0700
TZOFFSETTO:-0800
TZNAME:PST
DTSTART:20251102T090000
END:STANDARD
BEGIN:DAYLIGHT
TZOFFSETFROM:-0800
TZOFFSETTO:-0700
TZNAME:PDT
DTSTART:20260308T100000
END:DAYLIGHT
BEGIN:STANDARD
TZOFFSETFROM:-0700
TZOFFSETTO:-0800
TZNAME:PST
DTSTART:20261101T090000
END:STANDARD
BEGIN:DAYLIGHT
TZOFFSETFROM:-0800
TZOFFSETTO:-0700
TZNAME:PDT
DTSTART:20270314T100000
END:DAYLIGHT
BEGIN:STANDARD
TZOFFSETFROM:-0700
TZOFFSETTO:-0800
TZNAME:PST
DTSTART:20271107T090000
END:STANDARD
END:VTIMEZONE
BEGIN:VEVENT
DTSTART;TZID=America/Los_Angeles:20260401T093000
DTEND;TZID=America/Los_Angeles:20260401T153000
DTSTAMP:20260423T231403
CREATED:20260227T220105Z
LAST-MODIFIED:20260227T220105Z
UID:6055-1775035800-1775057400@maacproject.org
SUMMARY:SD Solid Waste Assistance Program Clinic
DESCRIPTION:April 1st —  9:30 am – 3:30 pm \nNorth Clairemont Library\n4616 Clairemont Drive\nSan Diego\, CA 92117 \nMeeting Room
URL:https://maacproject.org/event/sd-solid-waste-assistance-program-clinic-12/
LOCATION:Clairemont Library\, 4616 Clairemont Drive\, San Diego\, CA\, 92117\, United States
CATEGORIES:Economic Development
ATTACH;FMTTYPE=image/jpeg:https://maacproject.org/wp-content/uploads/2025/12/City-of-San-Diego-trash-bins-with-gray-background-scaled.jpg
END:VEVENT
END:VCALENDAR