BEGIN:VCALENDAR
VERSION:2.0
PRODID:-//MAAC - ECPv6.15.20//NONSGML v1.0//EN
CALSCALE:GREGORIAN
METHOD:PUBLISH
X-ORIGINAL-URL:https://maacproject.org
X-WR-CALDESC:Events for MAAC
REFRESH-INTERVAL;VALUE=DURATION:PT1H
X-Robots-Tag:noindex
X-PUBLISHED-TTL:PT1H
BEGIN:VTIMEZONE
TZID:America/Los_Angeles
BEGIN:DAYLIGHT
TZOFFSETFROM:-0800
TZOFFSETTO:-0700
TZNAME:PDT
DTSTART:20250309T100000
END:DAYLIGHT
BEGIN:STANDARD
TZOFFSETFROM:-0700
TZOFFSETTO:-0800
TZNAME:PST
DTSTART:20251102T090000
END:STANDARD
BEGIN:DAYLIGHT
TZOFFSETFROM:-0800
TZOFFSETTO:-0700
TZNAME:PDT
DTSTART:20260308T100000
END:DAYLIGHT
BEGIN:STANDARD
TZOFFSETFROM:-0700
TZOFFSETTO:-0800
TZNAME:PST
DTSTART:20261101T090000
END:STANDARD
BEGIN:DAYLIGHT
TZOFFSETFROM:-0800
TZOFFSETTO:-0700
TZNAME:PDT
DTSTART:20270314T100000
END:DAYLIGHT
BEGIN:STANDARD
TZOFFSETFROM:-0700
TZOFFSETTO:-0800
TZNAME:PST
DTSTART:20271107T090000
END:STANDARD
END:VTIMEZONE
BEGIN:VEVENT
DTSTART;TZID=America/Los_Angeles:20260311T093000
DTEND;TZID=America/Los_Angeles:20260311T153000
DTSTAMP:20260424T002927
CREATED:20260114T212957Z
LAST-MODIFIED:20260127T223803Z
UID:5876-1773221400-1773243000@maacproject.org
SUMMARY:SD Solid Waste Assistance Program Clinic
DESCRIPTION:March 11th —  9:30 am – 3:30 pm \nMission Hills – Hillcrest/Knox Library \n215 W. Washington Street\nSan Diego\, CA 92103 \nStudy Rooms
URL:https://maacproject.org/event/sd-solid-waste-assistance-program-clinic-6/
LOCATION:Mission Hills – Hillcrest/Knox Library\, 215 W. Washington Street\, San Diego\, CA\, 92103\, United States
CATEGORIES:Economic Development
ATTACH;FMTTYPE=image/jpeg:https://maacproject.org/wp-content/uploads/2025/12/City-of-San-Diego-collection-service-scaled.jpg
END:VEVENT
END:VCALENDAR