BEGIN:VCALENDAR
VERSION:2.0
PRODID:-//MAAC - ECPv6.15.20//NONSGML v1.0//EN
CALSCALE:GREGORIAN
METHOD:PUBLISH
X-ORIGINAL-URL:https://maacproject.org
X-WR-CALDESC:Events for MAAC
REFRESH-INTERVAL;VALUE=DURATION:PT1H
X-Robots-Tag:noindex
X-PUBLISHED-TTL:PT1H
BEGIN:VTIMEZONE
TZID:America/Los_Angeles
BEGIN:DAYLIGHT
TZOFFSETFROM:-0800
TZOFFSETTO:-0700
TZNAME:PDT
DTSTART:20250309T100000
END:DAYLIGHT
BEGIN:STANDARD
TZOFFSETFROM:-0700
TZOFFSETTO:-0800
TZNAME:PST
DTSTART:20251102T090000
END:STANDARD
BEGIN:DAYLIGHT
TZOFFSETFROM:-0800
TZOFFSETTO:-0700
TZNAME:PDT
DTSTART:20260308T100000
END:DAYLIGHT
BEGIN:STANDARD
TZOFFSETFROM:-0700
TZOFFSETTO:-0800
TZNAME:PST
DTSTART:20261101T090000
END:STANDARD
BEGIN:DAYLIGHT
TZOFFSETFROM:-0800
TZOFFSETTO:-0700
TZNAME:PDT
DTSTART:20270314T100000
END:DAYLIGHT
BEGIN:STANDARD
TZOFFSETFROM:-0700
TZOFFSETTO:-0800
TZNAME:PST
DTSTART:20271107T090000
END:STANDARD
END:VTIMEZONE
BEGIN:VEVENT
DTSTART;TZID=America/Los_Angeles:20260305T090000
DTEND;TZID=America/Los_Angeles:20260305T090000
DTSTAMP:20260423T202626
CREATED:20260203T150920Z
LAST-MODIFIED:20260203T152142Z
UID:5959-1772701200-1772701200@maacproject.org
SUMMARY:Food Bank – 1st Thursday of the Month
DESCRIPTION:9AM Mercado \n2001 Newton Avenue\, San Diego\, CA 92113 \nWalk up for services only \nFor more information\, go here.
URL:https://maacproject.org/event/food-bank-1st-thursday-of-the-month-23/
LOCATION:Mercado Apartments\, 2001 Newton Avenue\, San Diego\, CA\, 92113\, United States
CATEGORIES:Food Bank
ATTACH;FMTTYPE=image/jpeg:https://maacproject.org/wp-content/uploads/2024/06/IMG_5901-scaled-e1713278304459.jpg
END:VEVENT
END:VCALENDAR