BEGIN:VCALENDAR
VERSION:2.0
PRODID:-//MAAC - ECPv6.15.20//NONSGML v1.0//EN
CALSCALE:GREGORIAN
METHOD:PUBLISH
X-ORIGINAL-URL:https://maacproject.org
X-WR-CALDESC:Events for MAAC
REFRESH-INTERVAL;VALUE=DURATION:PT1H
X-Robots-Tag:noindex
X-PUBLISHED-TTL:PT1H
BEGIN:VTIMEZONE
TZID:America/Los_Angeles
BEGIN:DAYLIGHT
TZOFFSETFROM:-0800
TZOFFSETTO:-0700
TZNAME:PDT
DTSTART:20240310T100000
END:DAYLIGHT
BEGIN:STANDARD
TZOFFSETFROM:-0700
TZOFFSETTO:-0800
TZNAME:PST
DTSTART:20241103T090000
END:STANDARD
BEGIN:DAYLIGHT
TZOFFSETFROM:-0800
TZOFFSETTO:-0700
TZNAME:PDT
DTSTART:20250309T100000
END:DAYLIGHT
BEGIN:STANDARD
TZOFFSETFROM:-0700
TZOFFSETTO:-0800
TZNAME:PST
DTSTART:20251102T090000
END:STANDARD
BEGIN:DAYLIGHT
TZOFFSETFROM:-0800
TZOFFSETTO:-0700
TZNAME:PDT
DTSTART:20260308T100000
END:DAYLIGHT
BEGIN:STANDARD
TZOFFSETFROM:-0700
TZOFFSETTO:-0800
TZNAME:PST
DTSTART:20261101T090000
END:STANDARD
END:VTIMEZONE
BEGIN:VEVENT
DTSTART;TZID=America/Los_Angeles:20251105T073000
DTEND;TZID=America/Los_Angeles:20251105T093000
DTSTAMP:20260424T065418
CREATED:20251104T211355Z
LAST-MODIFIED:20251104T211355Z
UID:5533-1762327800-1762335000@maacproject.org
SUMMARY:Diaper Distribution – 1st Wednesday
DESCRIPTION:DIAPER DISTRIBUTION /DISTRIBUCIÓN DE PAÑALES \nWALK up for services / Servicios en persona\nEvery 1st Wednesday of the Month / Cada primer miércoles \nFor more info\, go here.
URL:https://maacproject.org/event/diaper-distribution-1st-wednesday-19/
LOCATION:MAAC North Campus\, 956 Vale Terrace Drive\, Vista\, CA\, 92084\, United States
CATEGORIES:Bi-Monthly Diaper Distribution
ATTACH;FMTTYPE=image/jpeg:https://maacproject.org/wp-content/uploads/2024/06/GettyImages-1167721346_lr.jpg
END:VEVENT
END:VCALENDAR